BEGIN:VCALENDAR
VERSION:2.0
PRODID:-//ChamberMaster//Event Calendar 2.0//EN
METHOD:PUBLISH
X-PUBLISHED-TTL:P3D
REFRESH-INTERVAL:P3D
CALSCALE:GREGORIAN
BEGIN:VEVENT
DTSTART:20220729T200000Z
DTEND:20220729T220000Z
X-MICROSOFT-CDO-ALLDAYEVENT:FALSE
SUMMARY:Hair Tinsel/Feather Party at Better in Bourbon
DESCRIPTION:Join the fun with these colorful additions to your hair!\n\nPlease arrive with hair brushed or bring your own brush.
X-ALT-DESC;FMTTYPE=text/html:<div class="kvgmc6g5 cxmmr5t8 oygrvhab hcukyx3x c1et5uql" style="overflow-wrap: break-word\; margin: 0px\; font-family: &quot\;Segoe UI Historic&quot\;\, &quot\;Segoe UI&quot\;\, Helvetica\, Arial\, sans-serif\; color: rgb(5\, 5\, 5)\; font-size: 15px\;">Join the fun with these colorful additions to your hair!</div>\n\n<div class="cxmmr5t8 oygrvhab hcukyx3x c1et5uql o9v6fnle" style="overflow-wrap: break-word\; margin: 0.5em 0px 0px\; font-family: &quot\;Segoe UI Historic&quot\;\, &quot\;Segoe UI&quot\;\, Helvetica\, Arial\, sans-serif\; color: rgb(5\, 5\, 5)\; font-size: 15px\;">Please arrive with hair brushed or bring your own brush.</div>\n
LOCATION:Better in Bourbon 13 N. Main St.
UID:e.2874.25132
SEQUENCE:3
DTSTAMP:20260419T122426Z
URL:https://fortscott.com/events/details/hair-tinsel-feather-party-at-better-in-bourbon-25132
END:VEVENT

END:VCALENDAR
