BEGIN:VCALENDAR
VERSION:2.0
PRODID:-//ChamberMaster//Event Calendar 2.0//EN
METHOD:PUBLISH
X-PUBLISHED-TTL:P3D
REFRESH-INTERVAL:P3D
CALSCALE:GREGORIAN
BEGIN:VEVENT
DTSTART:20191031T220000Z
DTEND:20191101T000000Z
X-MICROSOFT-CDO-ALLDAYEVENT:FALSE
SUMMARY:Halloween on Horton
DESCRIPTION:Nazarene Church will provide Trunk-or-Treat from 5:30-7 pm.\n\nCommunity Christian Church will provide\, Trunk-or-Treat\, photo-op\, inflatables\, hot dogs\, nachos\, beverages\, inflatables and more from 5-7pm.\n\nMake time to stop by both churches and enjoy the festivities.\n\nPlease enjoy a safe Halloween!
X-ALT-DESC;FMTTYPE=text/html:<span style="font-size:18px"><span style="font-family:comic sans ms">Nazarene Church will provide Trunk-or-Treat from 5:30-7 pm.<br />\nCommunity Christian Church will provide\, Trunk-or-Treat\, photo-op\, inflatables\, hot dogs\, nachos\, beverages\, inflatables and more from 5-7pm.<br />\nMake time to stop by both churches and enjoy the festivities.<br />\nPlease enjoy a safe Halloween!</span></span>
LOCATION:Community Christian Church 1919 Horton Nazarene Church 1728 Horton
UID:e.2874.13631
SEQUENCE:3
DTSTAMP:20260420T124309Z
URL:https://fortscott.com/events/details/halloween-on-horton-13631
END:VEVENT

END:VCALENDAR
