BEGIN:VCALENDAR
VERSION:2.0
PRODID:-//ChamberMaster//Event Calendar 2.0//EN
METHOD:PUBLISH
X-PUBLISHED-TTL:P3D
REFRESH-INTERVAL:P3D
CALSCALE:GREGORIAN
BEGIN:VEVENT
DTSTART:20191029T150000Z
DTEND:20191029T150000Z
X-MICROSOFT-CDO-ALLDAYEVENT:FALSE
SUMMARY:Hedgehog.INK Celebrating One-Year Anniversary!
DESCRIPTION:Hedgehog.INK invites our community and surrounding area to help celebrate their one-year anniversary!\n\n~drawings for prizes\n\n~10% off all books\, all week long\n\n\n\nBIRTHDAY CAKE ON OCTOBER 31ST!
X-ALT-DESC;FMTTYPE=text/html:Hedgehog.INK invites our community and surrounding area to help celebrate their one-year anniversary!<br />\n~drawings for prizes<br />\n~10% off all books\, all week long<br />\n<br />\nBIRTHDAY CAKE ON OCTOBER 31ST!<br />\n&nbsp\;
LOCATION:Hedgehog.INK provides products from our Local community! Goat Milk Products:Sue Reinecke Greeting Cards:Jean Solomonson Lavender Patch Products: Davin/Betsy Reichard Bags & Scrunchies:Millie Karlskint Crochet by Peggy:Peggy Wilson TMC Jewelry:Cindy Hall New items: Large Variety of Enamel Pins Interactive journals And So Much more Hedgehog.INK! Gently Used Books and So Much More "A community of books for the community."
UID:e.2874.13647
SEQUENCE:3
DTSTAMP:20260420T124843Z
URL:https://fortscott.com/events/details/hedgehog-ink-celebrating-one-year-anniversary-10-29-2019-13647
END:VEVENT

END:VCALENDAR
