BEGIN:VCALENDAR
VERSION:2.0
PRODID:-//ChamberMaster//Event Calendar 2.0//EN
METHOD:PUBLISH
X-PUBLISHED-TTL:P3D
REFRESH-INTERVAL:P3D
CALSCALE:GREGORIAN
BEGIN:VEVENT
DTSTART:20190814T000000Z
DTEND:20190814T010000Z
X-MICROSOFT-CDO-ALLDAYEVENT:FALSE
SUMMARY:Historic Preservation Association of Bourbon County Meeting
DESCRIPTION:Historic Preservation Association of Bourbon County meeting. We will have great fellowship\, refreshments\, and a door prize\, hope you can attend!
X-ALT-DESC;FMTTYPE=text/html:Historic Preservation Association of Bourbon County meeting.&nbsp\;<span style="color: rgb(34\, 34\, 34)\; font-family: arial\, sans-serif\; font-size: 12.8px\;">We will have great fellowship\, refreshments\, and a door prize\, hope you can attend!&nbsp\;</span>
LOCATION:Old Congregational Church\, 502 S. National Ave.\, Fort Scott
UID:e.2874.11935
SEQUENCE:3
DTSTAMP:20260419T212402Z
URL:https://fortscott.com/events/details/historic-preservation-association-of-bourbon-county-meeting-08-13-2019-11935
END:VEVENT

END:VCALENDAR
