BEGIN:VCALENDAR
VERSION:2.0
PRODID:-//ChamberMaster//Event Calendar 2.0//EN
METHOD:PUBLISH
X-PUBLISHED-TTL:P3D
REFRESH-INTERVAL:P3D
CALSCALE:GREGORIAN
BEGIN:VEVENT
DTSTART:20241204T000000Z
DTEND:20241204T010000Z
X-MICROSOFT-CDO-ALLDAYEVENT:FALSE
SUMMARY:"Hope For The Holidays" Memorial Service hosted by Mount Carmel Hospice
DESCRIPTION:Mount Carmel Hospice invites you to join us on Tuesday\, December 3rd\, 2024 from 6:00 pm - 7:00 pm in the Cheney Witt Chapel for our "Hope for the Holidays" Memorial Service.
X-ALT-DESC;FMTTYPE=text/html:Mount Carmel Hospice invites you to join us on Tuesday\, December 3rd\, 2024 from 6:00 pm - 7:00 pm in the Cheney Witt Chapel for our &quot\;Hope for the Holidays&quot\; Memorial Service.
LOCATION:Cheney Witt Chapel
UID:e.2874.32336
SEQUENCE:3
DTSTAMP:20260419T170306Z
URL:https://fortscott.com/events/details/hope-for-the-holidays-memorial-service-hosted-by-mount-carmel-hospice-32336
END:VEVENT

END:VCALENDAR
