BEGIN:VCALENDAR
VERSION:2.0
PRODID:-//ChamberMaster//Event Calendar 2.0//EN
METHOD:PUBLISH
X-PUBLISHED-TTL:P3D
REFRESH-INTERVAL:P3D
CALSCALE:GREGORIAN
BEGIN:VEVENT
DTSTART:20220419T230000Z
DTEND:20220420T010000Z
X-MICROSOFT-CDO-ALLDAYEVENT:FALSE
SUMMARY:Human Trafficking Seminar
DESCRIPTION:Human Trafficking Seminar hosted by the Bourbon County Sheriff's Office\n\nTuesday\, April 19th\, 6pm\n\nEllis Fine Arts Center at FSCC
X-ALT-DESC;FMTTYPE=text/html:Human Trafficking Seminar hosted by the Bourbon County Sheriff&#39\;s Office<br />\nTuesday\, April 19th\, 6pm<br />\nEllis Fine Arts Center at FSCC
LOCATION:
UID:e.2874.24585
SEQUENCE:3
DTSTAMP:20260425T172539Z
URL:https://fortscott.com/events/details/human-trafficking-seminar-24585
END:VEVENT

END:VCALENDAR
