BEGIN:VCALENDAR
VERSION:2.0
PRODID:-//ChamberMaster//Event Calendar 2.0//EN
METHOD:PUBLISH
X-PUBLISHED-TTL:P3D
REFRESH-INTERVAL:P3D
CALSCALE:GREGORIAN
BEGIN:VEVENT
DTSTART:20211218T150000Z
DTEND:20211218T213000Z
X-MICROSOFT-CDO-ALLDAYEVENT:FALSE
SUMMARY:Jingle Bell Holiday Mart
DESCRIPTION:Finish up your Christmas shopping and support local small businesses at the Jingle Bell Holiday Mart this Saturday at the Bourbon County Fairgrounds from 9am to 3:30pm. Enjoy beautiful handmade quilts\, soaps\, lotions\, candles\, and jewelry\, as well as photography\, tumblers\, and wines.\n\n \n1. Locust Hill Lamancha's Goat milk soap and lotions\n\n2. Paula Vincent\, hand made quilts\, Young Living essential oils and gift baskets.\n\n3. Auntie Em's Closet\, key fobs of all kinds\, car freshies.\n\n4. Quill Fire Farms\n\n5. Flying P Ranch\, earrings\, jewelry\n\n6. Peachy Design by Kris and Tay tumblers and t's\n\n7. Happy Little Candle Factory\n\n8. Hunter's Fashion. Paparazzi Jewelry\n\n9. Desert Bloom Boutique\n\n10. Tessie Tucker\, Color Street Nails\n\n11. MDC Photography\n\n12. CBF Candles\n\n13. Blue Dog Winery\n\n\n+ and more
X-ALT-DESC;FMTTYPE=text/html:Finish up your Christmas shopping and support local small businesses at the Jingle Bell Holiday Mart this Saturday at the Bourbon County Fairgrounds from 9am to 3:30pm. Enjoy beautiful handmade quilts\, soaps\, lotions\, candles\, and jewelry\, as well as photography\, tumblers\, and wines.<br />\n&nbsp\;\n<div dir="auto" style="font-family: &quot\;Segoe UI Historic&quot\;\, &quot\;Segoe UI&quot\;\, Helvetica\, Arial\, sans-serif\; color: rgb(5\, 5\, 5)\; font-size: 18.75px\; white-space: pre-wrap\; background-color: rgb(255\, 255\, 255)\;"><span style="font-size:10px\;">1. Locust Hill Lamancha&rsquo\;s Goat milk soap and lotions</span></div>\n\n<div dir="auto" style="font-family: &quot\;Segoe UI Historic&quot\;\, &quot\;Segoe UI&quot\;\, Helvetica\, Arial\, sans-serif\; color: rgb(5\, 5\, 5)\; font-size: 18.75px\; white-space: pre-wrap\; background-color: rgb(255\, 255\, 255)\;"><span style="font-size:10px\;">2. Paula Vincent\, hand made quilts\, Young Living essential oils and gift baskets.</span></div>\n\n<div dir="auto" style="font-family: &quot\;Segoe UI Historic&quot\;\, &quot\;Segoe UI&quot\;\, Helvetica\, Arial\, sans-serif\; color: rgb(5\, 5\, 5)\; font-size: 18.75px\; white-space: pre-wrap\; background-color: rgb(255\, 255\, 255)\;"><span style="font-size:10px\;">3. Auntie Em&rsquo\;s Closet\, key fobs of all kinds\, car freshies.</span></div>\n\n<div dir="auto" style="font-family: &quot\;Segoe UI Historic&quot\;\, &quot\;Segoe UI&quot\;\, Helvetica\, Arial\, sans-serif\; color: rgb(5\, 5\, 5)\; font-size: 18.75px\; white-space: pre-wrap\; background-color: rgb(255\, 255\, 255)\;"><span style="font-size:10px\;">4. Quill Fire Farms</span></div>\n\n<div dir="auto" style="font-family: &quot\;Segoe UI Historic&quot\;\, &quot\;Segoe UI&quot\;\, Helvetica\, Arial\, sans-serif\; color: rgb(5\, 5\, 5)\; font-size: 18.75px\; white-space: pre-wrap\; background-color: rgb(255\, 255\, 255)\;"><span style="font-size:10px\;">5. Flying P Ranch\, earrings\, jewelry</span></div>\n\n<div dir="auto" style="font-family: &quot\;Segoe UI Historic&quot\;\, &quot\;Segoe UI&quot\;\, Helvetica\, Arial\, sans-serif\; color: rgb(5\, 5\, 5)\; font-size: 18.75px\; white-space: pre-wrap\; background-color: rgb(255\, 255\, 255)\;"><span style="font-size:10px\;">6. Peachy Design by Kris and Tay tumblers and t&rsquo\;s</span></div>\n\n<div dir="auto" style="font-family: &quot\;Segoe UI Historic&quot\;\, &quot\;Segoe UI&quot\;\, Helvetica\, Arial\, sans-serif\; color: rgb(5\, 5\, 5)\; font-size: 18.75px\; white-space: pre-wrap\; background-color: rgb(255\, 255\, 255)\;"><span style="font-size:10px\;">7. Happy Little Candle Factory</span></div>\n\n<div dir="auto" style="font-family: &quot\;Segoe UI Historic&quot\;\, &quot\;Segoe UI&quot\;\, Helvetica\, Arial\, sans-serif\; color: rgb(5\, 5\, 5)\; font-size: 18.75px\; white-space: pre-wrap\; background-color: rgb(255\, 255\, 255)\;"><span style="font-size:10px\;">8. Hunter&rsquo\;s Fashion. Paparazzi Jewelry</span></div>\n\n<div dir="auto" style="font-family: &quot\;Segoe UI Historic&quot\;\, &quot\;Segoe UI&quot\;\, Helvetica\, Arial\, sans-serif\; color: rgb(5\, 5\, 5)\; font-size: 18.75px\; white-space: pre-wrap\; background-color: rgb(255\, 255\, 255)\;"><span style="font-size:10px\;">9. Desert Bloom Boutique</span></div>\n\n<div dir="auto" style="font-family: &quot\;Segoe UI Historic&quot\;\, &quot\;Segoe UI&quot\;\, Helvetica\, Arial\, sans-serif\; color: rgb(5\, 5\, 5)\; font-size: 18.75px\; white-space: pre-wrap\; background-color: rgb(255\, 255\, 255)\;"><span style="font-size:10px\;">10. Tessie Tucker\, Color Street Nails</span></div>\n\n<div dir="auto" style="font-family: &quot\;Segoe UI Historic&quot\;\, &quot\;Segoe UI&quot\;\, Helvetica\, Arial\, sans-serif\; color: rgb(5\, 5\, 5)\; font-size: 18.75px\; white-space: pre-wrap\; background-color: rgb(255\, 255\, 255)\;"><span style="font-size:10px\;">11. MDC Photography</span></div>\n\n<div dir="auto" style="font-family: &quot\;Segoe UI Historic&quot\;\, &quot\;Segoe UI&quot\;\, Helvetica\, Arial\, sans-serif\; color: rgb(5\, 5\, 5)\; font-size: 18.75px\; white-space: pre-wrap\; background-color: rgb(255\, 255\, 255)\;"><span style="font-size:10px\;">12. CBF Candles</span></div>\n\n<div dir="auto" style="font-family: &quot\;Segoe UI Historic&quot\;\, &quot\;Segoe UI&quot\;\, Helvetica\, Arial\, sans-serif\; color: rgb(5\, 5\, 5)\; font-size: 18.75px\; white-space: pre-wrap\; background-color: rgb(255\, 255\, 255)\;"><span style="font-size:10px\;">13. Blue Dog Winery</span></div>\n<br />\n+ and more<br />\n&nbsp\;
LOCATION:Bourbon County Fairgrounds 2102 S Huntington Blvd. Fort Scott\, KS
UID:e.2874.22832
SEQUENCE:3
DTSTAMP:20260426T000220Z
URL:https://fortscott.com/events/details/jingle-bell-holiday-mart-22832
END:VEVENT

END:VCALENDAR
