BEGIN:VCALENDAR
VERSION:2.0
PRODID:-//ChamberMaster//Event Calendar 2.0//EN
METHOD:PUBLISH
X-PUBLISHED-TTL:P3D
REFRESH-INTERVAL:P3D
CALSCALE:GREGORIAN
BEGIN:VEVENT
DTSTART:20220409T170000Z
DTEND:20220409T190000Z
X-MICROSOFT-CDO-ALLDAYEVENT:FALSE
SUMMARY:Joe Erie Benefit @ Holmtown Pub with Bourbon County Revival
DESCRIPTION:Joe Erie Benefit - Care to Share\n\nFeaturing Bourbon County Revival
X-ALT-DESC;FMTTYPE=text/html:Joe Erie Benefit - Care to Share<br />\nFeaturing Bourbon County Revival
LOCATION:
UID:e.2874.24397
SEQUENCE:3
DTSTAMP:20260425T173019Z
URL:https://fortscott.com/events/details/joe-erie-benefit-holmtown-pub-with-bourbon-county-revival-24397
END:VEVENT

END:VCALENDAR
