BEGIN:VCALENDAR
VERSION:2.0
PRODID:-//ChamberMaster//Event Calendar 2.0//EN
METHOD:PUBLISH
X-PUBLISHED-TTL:P3D
REFRESH-INTERVAL:P3D
CALSCALE:GREGORIAN
BEGIN:VEVENT
DTSTART:20220527T170000Z
DTEND:20220531T000000Z
X-MICROSOFT-CDO-ALLDAYEVENT:FALSE
SUMMARY:Kanrocks Memorial Day Weekend
DESCRIPTION:They will be open Friday\, Saturday\, Sunday and Monday for Memorial Day Weekend Tent and RV camping available.\n\nCheck out their new shower house!
X-ALT-DESC;FMTTYPE=text/html:<p style="box-sizing: inherit\; overflow-wrap: break-word\; margin-bottom: var(--tec-spacer-3)\; margin-top: 0px\; font-size: var(--tec-font-size-4)\; line-height: var(--tec-line-height-2)\; color: rgb(255\, 255\, 255)\; font-family: &quot\;Helvetica Neue&quot\;\, Helvetica\, -apple-system\, BlinkMacSystemFont\, Roboto\, Arial\, sans-serif\; background-color: rgb(0\, 0\, 0)\;">They will be open Friday\, Saturday\, Sunday and Monday for Memorial Day Weekend Tent and RV camping available.</p>\n\n<p style="box-sizing: inherit\; overflow-wrap: break-word\; margin-bottom: var(--tec-spacer-6)\; margin-top: 0px\; font-size: var(--tec-font-size-4)\; line-height: var(--tec-line-height-2)\; color: rgb(255\, 255\, 255)\; font-family: &quot\;Helvetica Neue&quot\;\, Helvetica\, -apple-system\, BlinkMacSystemFont\, Roboto\, Arial\, sans-serif\; background-color: rgb(0\, 0\, 0)\;">Check out their new shower house!</p>\n
LOCATION:Kansas Rocks Recreation Park 2051 130th St\, Mapleton\, KS 66754
UID:e.2874.24575
SEQUENCE:3
DTSTAMP:20260425T160935Z
URL:https://fortscott.com/events/details/kanrocks-memorial-day-weekend-24575
END:VEVENT

END:VCALENDAR
