BEGIN:VCALENDAR
VERSION:2.0
PRODID:-//ChamberMaster//Event Calendar 2.0//EN
METHOD:PUBLISH
X-PUBLISHED-TTL:P3D
REFRESH-INTERVAL:P3D
CALSCALE:GREGORIAN
BEGIN:VEVENT
DTSTART:20220515T000000Z
DTEND:20220515T050000Z
X-MICROSOFT-CDO-ALLDAYEVENT:FALSE
SUMMARY:Kanrocks Night Run
DESCRIPTION:Night Runs start at 7:00 pm and runs to Midnight. It only cost an additional $5 on top of the regular day fee. Come feel the difference between daylight wheeling and doing it in the dark. We generally schedule a night run during a full moon so you will have a little light to wheel by. This year we have May 14\, July 9 and Nov 5 scheduled for night runs.
X-ALT-DESC;FMTTYPE=text/html:<span style="color: rgb(255\, 255\, 255)\; font-family: &quot\;Helvetica Neue&quot\;\, Helvetica\, -apple-system\, BlinkMacSystemFont\, Roboto\, Arial\, sans-serif\; font-size: 18px\; background-color: rgb(0\, 0\, 0)\;">&nbsp\;Night Runs start at 7:00 pm and runs to Midnight. It only cost an additional $5 on top of the regular day fee. Come feel the difference between daylight wheeling and doing it in the dark. We generally schedule a night run during a full moon so you will have a little light to wheel by. This year we have May 14\, July 9 and Nov 5 scheduled for night runs.</span>
LOCATION:Kansas Rocks Recreation Park 2051 130th St. Mapleton\, KS
UID:e.2874.24574
SEQUENCE:3
DTSTAMP:20260425T160923Z
URL:https://fortscott.com/events/details/kanrocks-night-run-24574
END:VEVENT

END:VCALENDAR
