BEGIN:VCALENDAR
VERSION:2.0
PRODID:-//ChamberMaster//Event Calendar 2.0//EN
METHOD:PUBLISH
X-PUBLISHED-TTL:P3D
REFRESH-INTERVAL:P3D
CALSCALE:GREGORIAN
BEGIN:VEVENT
DTSTART;VALUE=DATE:20220424
DTEND;VALUE=DATE:20220426
TRANSP:TRANSPARENT
X-MICROSOFT-CDO-ALLDAYEVENT:TRUE
SUMMARY:Kansas National Interscholastic Racing Association Bike Race @ Gunn Park Trails
DESCRIPTION:Kansas National Interscholastic Racing Association Bike Race @ Gunn Park Trails\, 1010 Park Ave.\n\n\n\nApprox. 140 racers\, plus their parents\, vendors and sponsors.\n\n\n\nGunn Park will be closed to traffic during this event.\n\n______________\n\n\n\nThe Kansas Interscholastic Cycling League was founded in 2019 as a non-profit (501(c)3) Emergent League of the National Interscholastic Cycling Association (NICA). We facilitate the development of high school and middle school teams/clubs for grades 6-12 and provide the education\, training\, licensing\, and insurance for coaches and volunteers. We also produce high-quality mountain bike events and races that emphasize the value of participation\, camaraderie\, positive sporting behavior\, and well-being over competition.
X-ALT-DESC;FMTTYPE=text/html:Kansas National Interscholastic Racing Association Bike Race @ Gunn Park Trails\, 1010 Park Ave.<br />\n<br />\nApprox. 140 racers\, plus their parents\, vendors and sponsors.<br />\n<br />\nGunn Park will be closed to traffic during this event.<br />\n______________<br />\n<br />\n<span style="color: rgb(68\, 68\, 68)\; font-family: &quot\;Source Sans Pro&quot\;\, Arial\, sans-serif\; font-size: 18px\;">The Kansas Interscholastic Cycling League was founded in 2019 as a non-profit (501(c)3) Emergent League of the National Interscholastic Cycling Association (NICA). We facilitate the development of high school and middle school teams/clubs for grades 6-12 and provide the education\, training\, licensing\, and insurance for coaches and volunteers. We also produce high-quality mountain bike events and races that emphasize the value of participation\, camaraderie\, positive sporting behavior\, and well-being over competition.</span>
LOCATION:
UID:e.2874.23945
SEQUENCE:3
DTSTAMP:20260425T173146Z
URL:https://fortscott.com/events/details/kansas-national-interscholastic-racing-association-bike-race-gunn-park-trails-23945
END:VEVENT

END:VCALENDAR
