BEGIN:VCALENDAR
VERSION:2.0
PRODID:-//ChamberMaster//Event Calendar 2.0//EN
METHOD:PUBLISH
X-PUBLISHED-TTL:P3D
REFRESH-INTERVAL:P3D
CALSCALE:GREGORIAN
BEGIN:VEVENT
DTSTART:20220416T140000Z
DTEND:20220416T220000Z
X-MICROSOFT-CDO-ALLDAYEVENT:FALSE
SUMMARY:Kansas Rocks Recreation Park Spring Off Road 101 Course
DESCRIPTION:If you are new to the sport of off-roading or even if you have been in it awhile and want to learn more about how to wheel\, this is the course for you!\n\nIn this course you will learn:\n\nProper driving techniques over various terrain\n\nHow to Spot effectively\n\nHow to protect the environment\n\nAbout your vehicle\n\nPolitical impact on the sport\n\nAgenda for the 101 course:\n\nWe will have a class room type session to cover several topics and a Q&A.\n\nWe will head for the trails with guides to learn on the trails.\n\nWe will break for lunch. (Bring your own lunch.)\n\nBack to the trails for the rest of the day to learn more.\n\nYou will receive a 101 booklet for the course.\n\n\n\nOff Roading 101 Pre-Registration Course   $65 Per Vehicle.\n\nTickets can be purchased at: https://ksrockspark.com/events/
X-ALT-DESC;FMTTYPE=text/html:<div class="kvgmc6g5 cxmmr5t8 oygrvhab hcukyx3x c1et5uql" style="overflow-wrap: break-word\; margin: 0px\; font-family: &quot\;Segoe UI Historic&quot\;\, &quot\;Segoe UI&quot\;\, Helvetica\, Arial\, sans-serif\; color: rgb(5\, 5\, 5)\; font-size: 15px\; background-color: rgb(255\, 255\, 255)\;">If you are new to the sport of off-roading or even if you have been in it awhile and want to learn more about how to wheel\, this is the course for you!<br />\nIn this course you will learn:<br />\nProper driving techniques over various terrain<br />\nHow to Spot effectively<br />\nHow to protect the environment<br />\nAbout your vehicle<br />\nPolitical impact on the sport<br />\nAgenda for the 101 course:<br />\nWe will have a class room type session to cover several topics and a Q&amp\;A.<br />\nWe will head for the trails with guides to learn on the trails.<br />\nWe will break for lunch. (Bring your own lunch.)<br />\nBack to the trails for the rest of the day to learn more.<br />\nYou will receive a 101 booklet for the course.<br />\n<br />\n<span style="color: rgb(20\, 24\, 39)\; font-family: &quot\;Helvetica Neue&quot\;\, Helvetica\, -apple-system\, BlinkMacSystemFont\, Roboto\, Arial\, sans-serif\; font-size: 14px\; background-color: rgb(255\, 255\, 255)\;">Off Roading 101 Pre-Registration Course &ndash\; $65 Per Vehicle.<br />\nTickets can be purchased at:&nbsp\;</span>https://ksrockspark.com/events/</div>\n
LOCATION:2051 130th St. Mapleton\, KS 66754
UID:e.2874.24549
SEQUENCE:3
DTSTAMP:20260425T172748Z
URL:https://fortscott.com/events/details/kansas-rocks-recreation-park-spring-off-road-101-course-24549
END:VEVENT

END:VCALENDAR
