BEGIN:VCALENDAR
VERSION:2.0
PRODID:-//ChamberMaster//Event Calendar 2.0//EN
METHOD:PUBLISH
X-PUBLISHED-TTL:P3D
REFRESH-INTERVAL:P3D
CALSCALE:GREGORIAN
BEGIN:VEVENT
DTSTART:20211210T010000Z
DTEND:20211210T030000Z
X-MICROSOFT-CDO-ALLDAYEVENT:FALSE
SUMMARY:Lake Advisory Board Meeting
DESCRIPTION:Lake Advisory Board Meeting - City Hall
X-ALT-DESC;FMTTYPE=text/html:Lake Advisory Board Meeting - City Hall
LOCATION:
UID:e.2874.22822
SEQUENCE:3
DTSTAMP:20260426T000218Z
URL:https://fortscott.com/events/details/lake-advisory-board-meeting-22822
END:VEVENT

END:VCALENDAR
