BEGIN:VCALENDAR
VERSION:2.0
PRODID:-//ChamberMaster//Event Calendar 2.0//EN
METHOD:PUBLISH
X-PUBLISHED-TTL:P3D
REFRESH-INTERVAL:P3D
CALSCALE:GREGORIAN
BEGIN:VEVENT
DTSTART:20220401T220000Z
DTEND:20220402T000000Z
X-MICROSOFT-CDO-ALLDAYEVENT:FALSE
SUMMARY:Lenten Fish Fry hosted by Knights of Columbus
DESCRIPTION:The Knights of Columbus will host our annual fish fry!\n\nDrive-thru or dine-in @ Kennedy Gym\n\n \n\nThe ladies of Mary Queen of Angel parish bake wonderful desserts and we have many varieties of cakes\, pies\, and cookies.\n\n \n\n1 - Catfish\, French fries\, and coleslaw\n\n2 - Catfish\, cod\, French fries\, and coleslaw\n\n3 - Cod\, French fries\, and coleslaw
X-ALT-DESC;FMTTYPE=text/html:<p style="margin:0in\;margin-bottom:.0001pt\;background:white"><span style="font-family:comic sans ms\;"><span style="font-size:14px\;"><span style="color: black\;">The Knights of Columbus will host our&nbsp\;annual fish fry!<br />\nDrive-thru or dine-in @ Kennedy Gym</span></span></span></p>\n\n<p style="margin:0in\;margin-bottom:.0001pt\;background:white\;font-variant-ligatures: normal\;\nfont-variant-caps: normal\;orphans: 2\;text-align:start\;widows: 2\;-webkit-text-stroke-width: 0px\;\ntext-decoration-style: initial\;text-decoration-color: initial\;word-spacing:\n0px">&nbsp\;</p>\n\n<p style="margin:0in\;margin-bottom:.0001pt\;background:white\;font-variant-ligatures: normal\;\nfont-variant-caps: normal\;orphans: 2\;text-align:start\;widows: 2\;-webkit-text-stroke-width: 0px\;\ntext-decoration-style: initial\;text-decoration-color: initial\;word-spacing:\n0px"><span style="font-family:comic sans ms\;"><span style="font-size:14px\;"><span style="color: black\;">The ladies of Mary Queen of Angel parish bake wonderful desserts and we have many varieties&nbsp\;of&nbsp\;</span><span style="color: black\;">cakes\, pies\, and cookies.</span></span></span><br />\n&nbsp\;</p>\n\n<div style="color: rgb(64\, 63\, 66)\; font-family: Arial\, Verdana\, Helvetica\, sans-serif\; font-size: 12px\; white-space: pre-wrap\;"><span style="font-size: 14px\; color: rgb(5\, 5\, 5)\;">1 - Catfish\, French fries\, and coleslaw</span></div>\n\n<div style="color: rgb(64\, 63\, 66)\; font-family: Arial\, Verdana\, Helvetica\, sans-serif\; font-size: 12px\; white-space: pre-wrap\;"><span style="font-size: 14px\; color: rgb(5\, 5\, 5)\;">2 - Catfish\, cod\, French fries\, and coleslaw</span></div>\n\n<div style="color: rgb(64\, 63\, 66)\; font-family: Arial\, Verdana\, Helvetica\, sans-serif\; font-size: 12px\; white-space: pre-wrap\;"><span style="font-size: 14px\; color: rgb(5\, 5\, 5)\;">3 - Cod\, French fries\, and coleslaw</span></div>\n\n<p style="margin:0in\;margin-bottom:.0001pt\;background:white\;font-variant-ligatures: normal\;\nfont-variant-caps: normal\;orphans: 2\;text-align:start\;widows: 2\;-webkit-text-stroke-width: 0px\;\ntext-decoration-style: initial\;text-decoration-color: initial\;word-spacing:\n0px"><span style="font-family:&quot\;Calibri&quot\;\,&quot\;sans-serif&quot\;\;color:black"><o:p></o:p></span></p>\n
LOCATION:Kennedy Gym behind Mary Queen of Angels Catholic Church 705 S. Holbrook St.
UID:e.2874.24388
SEQUENCE:3
DTSTAMP:20260425T173152Z
URL:https://fortscott.com/events/details/lenten-fish-fry-hosted-by-knights-of-columbus-drive-thru-04-01-2022-24388
END:VEVENT

END:VCALENDAR
