BEGIN:VCALENDAR
VERSION:2.0
PRODID:-//ChamberMaster//Event Calendar 2.0//EN
METHOD:PUBLISH
X-PUBLISHED-TTL:P3D
REFRESH-INTERVAL:P3D
CALSCALE:GREGORIAN
BEGIN:VEVENT
DTSTART:20231202T003000Z
DTEND:20231202T030000Z
X-MICROSOFT-CDO-ALLDAYEVENT:FALSE
SUMMARY:Live Music at Heritage Park Pavilion - Holly Crays & Morgan Rohr
DESCRIPTION:Live Music at Heritage Park Pavilion - Holly Crays & Morgan Rohr\n\nas part of the Christmas on the Bricks Festival\n\n\n\nHolly Crays Live from 6:30-7:30pm\n\nMorgan Rohr Live from 8-9pm\n\n\n\nCome enjoy some great live music by local talent!
X-ALT-DESC;FMTTYPE=text/html:<span style="font-size:20px\;"><span style="font-family:times new roman\;"><span style="color:#B22222\;"><strong>Live Music at Heritage Park Pavilion - Holly Crays &amp\; Morgan Rohr</strong></span><br />\nas part of the Christmas on the Bricks Festival<br />\n<br />\nHolly Crays Live from 6:30-7:30pm<br />\nMorgan Rohr Live from 8-9pm<br />\n<br />\nCome enjoy some great live music by local talent!</span></span>
LOCATION:
UID:e.2874.29790
SEQUENCE:3
DTSTAMP:20260425T124411Z
URL:https://fortscott.com/events/details/live-music-at-heritage-park-pavilion-holly-crays-morgan-rohr-29790
END:VEVENT

END:VCALENDAR
