BEGIN:VCALENDAR
VERSION:2.0
PRODID:-//ChamberMaster//Event Calendar 2.0//EN
METHOD:PUBLISH
X-PUBLISHED-TTL:P3D
REFRESH-INTERVAL:P3D
CALSCALE:GREGORIAN
BEGIN:VEVENT
DTSTART:20191004T130000Z
DTEND:20191004T180000Z
X-MICROSOFT-CDO-ALLDAYEVENT:FALSE
SUMMARY:Manufacturing Day in Fort Scott
DESCRIPTION:Join us for Manufacturing Day in Fort Scott including tours of several local manufacturers\, FSCC John Deere & Welding Schools\, breakfast and/or lunch!\n\n\n\nLabconco\, Niece Products\, Peerless Products\, and Timken\n\n\n\nBoth school groups and individuals are invited and welcome to attend!\n\n\n\nRegistration/Check-in will be from 8-8:30am\, location Bourbon County Fairgrounds Pavilion (across from FSCC).  Complimentary breakfast will be served during this time\, please arrive to registration no later than 8:30am.\n\n\n\nDuring registration from 8-8:30am\, attendees are invited to tour the FSCC John Deere & Welding schools.\n\n\n\nTours will start at 9am\, 10am\, and 11am at the local businesses\, choose one or go to all!\n\nComplimentary lunch will be served following the tours at the Bourbon County Fairgrounds.\n\n\n\nAttendees need to wear closed-toed shoes.  Safety glasses will be provided during registration.\n\n\n\nDeadline for registration is Friday\, September 27th.
X-ALT-DESC;FMTTYPE=text/html:<span style="font-size:18px\;"><strong>Join us for Manufacturing Day in Fort Scott including tours of several local manufacturers\, FSCC John Deere &amp\; Welding Schools\, breakfast and/or lunch!</strong></span><br />\n<br />\nLabconco\, Niece Products\, Peerless Products\, and Timken<br />\n<br />\nBoth school groups and individuals are invited and welcome to attend!<br />\n<br />\n<strong>Registration/Check-in will be from 8-8:30am\, location Bourbon County Fairgrounds Pavilion (across from FSCC)</strong>.&nbsp\; <strong>Complimentary breakfast will be served during this time</strong>\, please arrive to registration no later than 8:30am.<br />\n<br />\n<strong>During registration from 8-8:30am\, attendees are invited to tour the FSCC John Deere &amp\; Welding schools.</strong><br />\n<br />\n<strong>Tours will start at 9am\, 10am\, and 11am</strong> at the local businesses\, choose one or go to all!<br />\nComplimentary lunch will be served following the tours at the Bourbon County Fairgrounds.<br />\n<br />\nAttendees need to wear closed-toed shoes.&nbsp\; Safety glasses will be provided during registration.<br />\n<br />\n<strong>Deadline for registration is Friday\, September 27th.</strong>
LOCATION:Addresses of tour locations: Labconco\, 2500 Liberty Bell Rd. Niece Products\, 3904 Liberty Bell Rd. Peerless Products\, 2403 S. Main St. Timken\, 4505 Campbell Dr. Tour locations and schedule for each school or group that registers will be provided after registration is complete.
UID:e.2874.13485
SEQUENCE:3
DTSTAMP:20260420T111832Z
URL:https://fortscott.com/events/details/manufacturing-day-in-fort-scott-13485
END:VEVENT

END:VCALENDAR
