BEGIN:VCALENDAR
VERSION:2.0
PRODID:-//ChamberMaster//Event Calendar 2.0//EN
METHOD:PUBLISH
X-PUBLISHED-TTL:P3D
REFRESH-INTERVAL:P3D
CALSCALE:GREGORIAN
BEGIN:VEVENT
DTSTART;VALUE=DATE:20181113
DTEND;VALUE=DATE:20181114
TRANSP:TRANSPARENT
X-MICROSOFT-CDO-ALLDAYEVENT:TRUE
SUMMARY:Medicare Part D Annual Enrollment Assistance at Southwind Extension Office
DESCRIPTION:Medicare Part D Annual Enrollment Assistance\n\nat Southwind Extension Office by appointment. Call \n\nJoy Miller\, Senior Health Insurance Counselor for Kansas\n\nat  223-3720.
X-ALT-DESC;FMTTYPE=text/html:<p style="margin-top: 0px\; margin-bottom: 0px\; color: rgb(0\, 0\, 0)\; font-family: Calibri\, Helvetica\, sans-serif\; font-size: 16px\;">Medicare Part D Annual&nbsp\;Enrollment Assistance</p>\n\n<p style="margin-top: 0px\; margin-bottom: 0px\; color: rgb(0\, 0\, 0)\; font-family: Calibri\, Helvetica\, sans-serif\; font-size: 16px\;">at Southwind Extension Office by appointment. Call&nbsp\;</p>\n\n<p style="margin-top: 0px\; margin-bottom: 0px\; color: rgb(0\, 0\, 0)\; font-family: Calibri\, Helvetica\, sans-serif\; font-size: 16px\;">Joy Miller\, Senior Health Insurance Counselor for Kansas</p>\n\n<p style="margin-top: 0px\; margin-bottom: 0px\; color: rgb(0\, 0\, 0)\; font-family: Calibri\, Helvetica\, sans-serif\; font-size: 16px\;">at&nbsp\;&nbsp\;223-3720.</p>\n
LOCATION:Southwind Extension District
UID:e.2874.10937
SEQUENCE:3
DTSTAMP:20260421T041056Z
URL:https://fortscott.com/events/details/medicare-part-d-annual-enrollment-assistance-at-southwind-extension-office-10937
END:VEVENT

END:VCALENDAR
