BEGIN:VCALENDAR
VERSION:2.0
PRODID:-//ChamberMaster//Event Calendar 2.0//EN
METHOD:PUBLISH
X-PUBLISHED-TTL:P3D
REFRESH-INTERVAL:P3D
CALSCALE:GREGORIAN
BEGIN:VEVENT
DTSTART:20220429T230000Z
DTEND:20220430T010000Z
X-MICROSOFT-CDO-ALLDAYEVENT:FALSE
SUMMARY:Middle School Fun Night
DESCRIPTION:Middle School Fun Night will be next Friday\, April 29th at Fort Scott Middle School from 6-8 p.m. \n \n\nThe entry fee is $5 per student. This event is for FSMS students only. \n\n \n\nWe will have lots of fun activities\, such as Nerf Wars\, e-sports\, basketball\, and much more. \n\n \n\nThere will also be a concession stand and a raffle. Raffle tickets will be $0.25 each. We are requesting donations for the concession stand: 6th graders - 12 pack of pop\, 7th graders - Little Debbie snacks (or similar)\, 8th graders - individual bags of chips. \n\n \n\nDonated items may be dropped off in the FSMS office this week or next.
X-ALT-DESC;FMTTYPE=text/html:<span style="color: rgb(5\, 5\, 5)\; font-family: &quot\;Segoe UI Historic&quot\;\, &quot\;Segoe UI&quot\;\, Helvetica\, Arial\, sans-serif\; font-size: 15px\; white-space: pre-wrap\; background-color: rgb(255\, 255\, 255)\;">Middle School Fun Night will be next Friday\, April 29th at Fort Scott Middle School from 6-8 p.m. </span>\n<div>&nbsp\;</div>\n\n<div><span style="color: rgb(5\, 5\, 5)\; font-family: &quot\;Segoe UI Historic&quot\;\, &quot\;Segoe UI&quot\;\, Helvetica\, Arial\, sans-serif\; font-size: 15px\; white-space: pre-wrap\; background-color: rgb(255\, 255\, 255)\;">The entry fee is $5 per student. This event is for FSMS students only. </span></div>\n\n<div>&nbsp\;</div>\n\n<div><span style="color: rgb(5\, 5\, 5)\; font-family: &quot\;Segoe UI Historic&quot\;\, &quot\;Segoe UI&quot\;\, Helvetica\, Arial\, sans-serif\; font-size: 15px\; white-space: pre-wrap\; background-color: rgb(255\, 255\, 255)\;">We will have lots of fun activities\, such as Nerf Wars\, e-sports\, basketball\, and much more. </span></div>\n\n<div>&nbsp\;</div>\n\n<div><span style="color: rgb(5\, 5\, 5)\; font-family: &quot\;Segoe UI Historic&quot\;\, &quot\;Segoe UI&quot\;\, Helvetica\, Arial\, sans-serif\; font-size: 15px\; white-space: pre-wrap\; background-color: rgb(255\, 255\, 255)\;">There will also be a concession stand and a raffle. Raffle tickets will be $0.25 each. We are requesting donations for the concession stand: 6th graders - 12 pack of pop\, 7th graders - Little Debbie snacks (or similar)\, 8th graders - individual bags of chips. </span></div>\n\n<div>&nbsp\;</div>\n\n<div><span style="color: rgb(5\, 5\, 5)\; font-family: &quot\;Segoe UI Historic&quot\;\, &quot\;Segoe UI&quot\;\, Helvetica\, Arial\, sans-serif\; font-size: 15px\; white-space: pre-wrap\; background-color: rgb(255\, 255\, 255)\;">Donated items may be dropped off in the FSMS office this week or next. </span></div>\n
LOCATION:Fort Scott Middle School
UID:e.2874.25023
SEQUENCE:3
DTSTAMP:20260425T172534Z
URL:https://fortscott.com/events/details/middle-school-fun-night-25023
END:VEVENT

END:VCALENDAR
