BEGIN:VCALENDAR
VERSION:2.0
PRODID:-//ChamberMaster//Event Calendar 2.0//EN
METHOD:PUBLISH
X-PUBLISHED-TTL:P3D
REFRESH-INTERVAL:P3D
CALSCALE:GREGORIAN
BEGIN:VEVENT
DTSTART:20200815T130000Z
DTEND:20200815T210000Z
X-MICROSOFT-CDO-ALLDAYEVENT:FALSE
SUMMARY:Mo's Swap Meet\, Saturdays Only\, 8am-4pm\, 3rd & Margrave St.
DESCRIPTION:NEW TO FORT SCOTT!  Come find your BEST EVERYTHING ELSE!\n\n\n\nMo's Swap Meet\n\nEvery Saturday through September 19th\n\n\n\nVENDORS WELCOME!\n\n\n\nFor a vendor booth\, call or text Monalynn Decker 417-689-9289\n\n\n\nFeaturing liquidation sale items baby goods to adult\, home goods\, outdoor items\, and TONS of miscellaneous!\n\n\n\nNotes for Vendors:\n\n	Swap meet will take place each Saturday through September 19\, 2020 from 7am-4pm at 223 S. Margrave St. in Fort Scott.  This is an outdoor event in the parking lot adjacent to The Venue.\n	Pre-registration by the Thursday prior to event requested.\n	Vendors may register through Monalynn at 417-689-9289\, on fortscott.com\, or at the Chamber office.\n	No electricity provided\, but you may bring your own generator/power.\n	Tent/overhead cover not provided\, bring your own tent\, table or other setup.\n	Please do not park under the awning connected to the venue\, event organizers will be stationed there.\n	Vendors are responsible for collecting & submitting their own sales tax or any other fees with the KDOR.\n	Event happens rain or shine\, unless canceled at organizers discretion. Vending fee may be applied to a future Saturday\, but no refunds.\n	THANKS for joining us as a vendor!  We are excited to have you!  Monalynn 417-689-9289
X-ALT-DESC;FMTTYPE=text/html:<span style="color:#FF8C00\;"><strong>NEW TO FORT SCOTT!&nbsp\; Come find your BEST EVERYTHING ELSE!</strong></span><br />\n<br />\n<span style="font-size:20px\;"><span style="font-family:comic sans ms\;"><strong><span style="color:#0000FF\;">Mo&#39\;s Swap Meet</span></strong></span></span><br />\nEvery Saturday through September 19th<br />\n<br />\n<span style="color:#0000FF\;"><strong>VENDORS WELCOME!</strong></span><br />\n<br />\nFor a vendor booth\, call or text Monalynn Decker 417-689-9289<br />\n<br />\nFeaturing liquidation sale items baby goods to adult\, home goods\, outdoor items\, and TONS of miscellaneous!<br />\n<br />\n<strong><span style="font-family:times new roman\,serif\;"><span style="font-size:14.0pt\;">Notes for Vendors:</span></span></strong>\n<ul style="list-style-type:circle\;">\n	<li><strong><span style="font-family:times new roman\,serif\;"><span style="font-size:12.0pt\;">Swap meet will take place each Saturday through September 19\, 2020 from 7am-4pm at 223 S. Margrave St. in Fort Scott.&nbsp\; This is an outdoor event in the parking lot adjacent to The Venue.</span></span></strong></li>\n	<li><strong><span style="font-family:times new roman\,serif\;"><span style="font-size:12.0pt\;">Pre-registration by the Thursday prior to event requested.</span></span></strong></li>\n	<li><strong><span style="font-family:times new roman\,serif\;"><span style="font-size:12.0pt\;">Vendors may register through Monalynn at 417-689-9289\, on fortscott.com\, or at the Chamber office.</span></span></strong></li>\n	<li><strong><span style="font-family:times new roman\,serif\;"><span style="font-size:12.0pt\;">No electricity provided\, but you may bring your own generator/power.</span></span></strong></li>\n	<li><strong><span style="font-family:times new roman\,serif\;"><span style="font-size:12.0pt\;">Tent/overhead cover not provided\, bring your own tent\, table or other setup.</span></span></strong></li>\n	<li><strong><span style="font-family:times new roman\,serif\;"><span style="font-size:12.0pt\;">Please do not park under the awning connected to the venue\, event organizers will be stationed there.</span></span></strong></li>\n	<li><strong><span style="font-family:times new roman\,serif\;"><span style="font-size:12.0pt\;">Vendors are responsible for collecting &amp\; submitting their own sales tax or any other fees with the KDOR.</span></span></strong></li>\n	<li><strong><span style="font-family:times new roman\,serif\;"><span style="font-size:12.0pt\;">Event happens rain or shine\, unless canceled at organizers discretion. Vending fee may be applied to a future Saturday\, but no refunds.</span></span></strong></li>\n	<li><strong><span style="font-family:times new roman\,serif\;"><span style="font-size:12.0pt\;">THANKS for joining us as a vendor!&nbsp\; We are excited to have you!&nbsp\; Monalynn 417-689-9289</span></span></strong></li>\n</ul>\n
LOCATION:3rd & Margrave St. ~ 223 S. Margrave St.
UID:e.2874.15147
SEQUENCE:3
DTSTAMP:20260419T224307Z
URL:https://fortscott.com/events/details/mo-s-swap-meet-saturdays-only-7am-4pm-3rd-margrave-st-08-15-2020-15147
END:VEVENT

END:VCALENDAR
