BEGIN:VCALENDAR
VERSION:2.0
PRODID:-//ChamberMaster//Event Calendar 2.0//EN
METHOD:PUBLISH
X-PUBLISHED-TTL:P3D
REFRESH-INTERVAL:P3D
CALSCALE:GREGORIAN
BEGIN:VEVENT
DTSTART;VALUE=DATE:20201218
DTEND;VALUE=DATE:20201219
TRANSP:TRANSPARENT
X-MICROSOFT-CDO-ALLDAYEVENT:TRUE
SUMMARY:Moe's Bread celebrates their 1-year anniversary! Click for details/specials!
DESCRIPTION:Dec.18th is our 1 yr anniversary! B&G\, sausage rolls\, cinn rolls\, danish\, coffee\, sausage chz biscuit\, bag of cookies\, & muffins $1.00 each all day come see us on the 18th! Random prizes given throughout the day!
X-ALT-DESC;FMTTYPE=text/html:<span style="color: rgb(5\, 5\, 5)\; font-family: &quot\;Segoe UI Historic&quot\;\, &quot\;Segoe UI&quot\;\, Helvetica\, Arial\, sans-serif\; font-size: 15px\; white-space: pre-wrap\;">Dec.18th is our 1 yr anniversary! B&amp\;G\, sausage rolls\, cinn rolls\, danish\, coffee\, sausage chz biscuit\, bag of cookies\, &amp\; muffins $1.00 each all day come see us on the 18th! Random prizes given throughout the day!</span>
LOCATION:
UID:e.2874.16890
SEQUENCE:3
DTSTAMP:20260420T213101Z
URL:https://fortscott.com/events/details/moe-s-bread-celebrates-their-1-year-anniversary-click-for-details-specials-16890
END:VEVENT

END:VCALENDAR
