BEGIN:VCALENDAR
VERSION:2.0
PRODID:-//ChamberMaster//Event Calendar 2.0//EN
METHOD:PUBLISH
X-PUBLISHED-TTL:P3D
REFRESH-INTERVAL:P3D
CALSCALE:GREGORIAN
BEGIN:VEVENT
DTSTART:20220424T180000Z
DTEND:20220424T220000Z
X-MICROSOFT-CDO-ALLDAYEVENT:FALSE
SUMMARY:Mommy & Daughter Day
DESCRIPTION:Join The Beauty Lounge Girls for the first ever Mommy + Daughter Day Event. The perfect event for you and your daughter to come get pampered\n\n\n\n\n\n\nAbout this event\n\n\n\nThe Beauty Lounge Girls are having their first ever Mommy + Daughter Day Event! Join The Beauty Lounge Girls and come get pampered! Stylist Aubrey will be styling both you and your daughters hair and Esthetician Tuker will be doing mini facials\, included will also be mini flower bouquets to take home + more!
X-ALT-DESC;FMTTYPE=text/html:<div class="g-group l-lg-mar-bot-6 l-md-mar-bot-4  " style="margin: 0px 0px 30px\; padding: 0px\; font-size: 0px\; letter-spacing: 0px\; color: rgb(57\, 54\, 79)\; font-family: &quot\;Neue Plak&quot\;\, -apple-system\, BlinkMacSystemFont\, Roboto\, &quot\;Helvetica Neue&quot\;\, Helvetica\, Tahoma\, Arial\, sans-serif\; background-color: rgb(255\, 255\, 255)\;">\n<div class="g-cell g-cell-10-12 g-cell-md-1-1" style="margin: 0px\; padding: 0px 15px\; width: 560px\; box-sizing: border-box\; display: inline-block\; overflow: hidden\; vertical-align: top\; letter-spacing: 0.5px\; font-size: 0.933333rem\; line-height: 1.25rem\;">\n<div class="has-user-generated-content" style="margin: 0px\; padding: 0px\;">\n<div class="text-body-medium" data-automation="listing-event-description" style="margin: 0px\; padding: 0px\; font-size: 0.933333rem\; line-height: 1.25rem\;"><span style="font-weight: 700\; padding-top: 0px\;">Join The Beauty Lounge Girls for the first ever Mommy + Daughter Day Event. The perfect event for you and your daughter to come get pampered</span></div>\n</div>\n</div>\n</div>\n\n<div class="g-group l-mar-bot-6 l-sm-mar-bot-4" style="margin: 0px 0px 30px\; padding: 0px\; font-size: 0px\; letter-spacing: 0px\; color: rgb(57\, 54\, 79)\; font-family: &quot\;Neue Plak&quot\;\, -apple-system\, BlinkMacSystemFont\, Roboto\, &quot\;Helvetica Neue&quot\;\, Helvetica\, Tahoma\, Arial\, sans-serif\; background-color: rgb(255\, 255\, 255)\;">\n<div class="structured-content g-cell g-cell-10-12 g-cell-md-1-1" style="margin: 0px\; padding: 0px 15px\; width: 560px\; box-sizing: border-box\; display: inline-block\; overflow: hidden\; vertical-align: top\; letter-spacing: 0.5px\; font-size: 0.933333rem\; line-height: 1.25rem\;">\n<h2 class="text-body-large hide-small" style="margin: 0px -0.25px 0px 0px\; padding: 0px\; font-size: 1.2rem\; line-height: 1.5rem\; letter-spacing: 0.25px\;">About this event</h2>\n\n<div class="has-user-generated-content" data-automation="about-this-event-sc" style="margin: 0px\; padding: 0px\;">\n<div class="structured-content-rich-text structured-content__module l-align-left l-mar-vert-6 l-sm-mar-vert-4 text-body-medium" style="margin: 30px 0px\; padding: 0px\; font-size: 0.933333rem\; line-height: 1.25rem\; text-rendering: optimizelegibility\;">\n<p style="margin: 0px\; padding: 0px\; color: rgb(111\, 114\, 135)\; font-size: 16px\; line-height: 1.5rem\;">The Beauty Lounge Girls are having their first ever Mommy + Daughter Day Event! Join The Beauty Lounge Girls and come get pampered! Stylist Aubrey will be styling both you and your daughters hair and Esthetician Tuker will be doing mini facials\, included will also be mini flower bouquets to take home + more!</p>\n</div>\n</div>\n</div>\n</div>\n
LOCATION:4 South Main Street Fort Scott\, KS 66701
UID:e.2874.24561
SEQUENCE:3
DTSTAMP:20260425T172656Z
URL:https://fortscott.com/events/details/mommy-daughter-day-24561
END:VEVENT

END:VCALENDAR
