BEGIN:VCALENDAR
VERSION:2.0
PRODID:-//ChamberMaster//Event Calendar 2.0//EN
METHOD:PUBLISH
X-PUBLISHED-TTL:P3D
REFRESH-INTERVAL:P3D
CALSCALE:GREGORIAN
BEGIN:VEVENT
DTSTART:20220424T190000Z
DTEND:20220424T203000Z
X-MICROSOFT-CDO-ALLDAYEVENT:FALSE
SUMMARY:Monthly Meeting of Bourbon County Democrats
DESCRIPTION:Monthly meeting one week later because of Easter.\n\nSpeaker: Chris Mann\, Candidate for Kansas Attorney General
X-ALT-DESC;FMTTYPE=text/html:Monthly meeting one week later because of Easter.<br />\nSpeaker: Chris Mann\, Candidate for Kansas Attorney General<br />\n&nbsp\;
LOCATION:Administration Building of FSCC--Heritage Room
UID:e.2874.24536
SEQUENCE:3
DTSTAMP:20260425T173126Z
URL:https://fortscott.com/events/details/monthly-meeting-of-bourbon-county-democrats-04-24-2022-24536
END:VEVENT

END:VCALENDAR
