BEGIN:VCALENDAR
VERSION:2.0
PRODID:-//ChamberMaster//Event Calendar 2.0//EN
METHOD:PUBLISH
X-PUBLISHED-TTL:P3D
REFRESH-INTERVAL:P3D
CALSCALE:GREGORIAN
BEGIN:VEVENT
DTSTART;VALUE=DATE:20220416
DTEND;VALUE=DATE:20220425
TRANSP:TRANSPARENT
X-MICROSOFT-CDO-ALLDAYEVENT:TRUE
SUMMARY:National Park Week - Fort Scott National Historic Site
DESCRIPTION:Programs TBD
X-ALT-DESC;FMTTYPE=text/html:Programs TBD
LOCATION:TBD
UID:e.2874.22912
SEQUENCE:3
DTSTAMP:20260425T172840Z
URL:https://fortscott.com/events/details/national-park-week-fort-scott-national-historic-site-22912
END:VEVENT

END:VCALENDAR
