BEGIN:VCALENDAR
VERSION:2.0
PRODID:-//ChamberMaster//Event Calendar 2.0//EN
METHOD:PUBLISH
X-PUBLISHED-TTL:P3D
REFRESH-INTERVAL:P3D
CALSCALE:GREGORIAN
BEGIN:VEVENT
DTSTART:20211218T170000Z
DTEND:20211218T180000Z
X-MICROSOFT-CDO-ALLDAYEVENT:FALSE
SUMMARY:National Wreaths Across America Day - Fort Scott National Cemetery - 11am
DESCRIPTION:National Wreaths Across America Day\n\n\n\nIf you would like to make a donation or purchase a wreath call\, 620-223-6700\n\nDiann Tucker with Stewart Realty \n\n\n\nCome\, Volunteer!
X-ALT-DESC;FMTTYPE=text/html:<strong>National Wreaths Across America Day</strong><br />\n<br />\nIf you would like to make a donation or purchase a wreath call\, 620-223-6700<br />\nDiann Tucker with Stewart Realty&nbsp\;<br />\n<br />\nCome\, Volunteer!<br />\n&nbsp\;
LOCATION:Fort Scott National Cemetery #1 900 E. National Ave.\, Fort Scott\, KS
UID:e.2874.22070
SEQUENCE:3
DTSTAMP:20260426T014121Z
URL:https://fortscott.com/events/details/national-wreaths-across-america-day-fort-scott-national-cemetery-11am-22070
END:VEVENT

END:VCALENDAR
