BEGIN:VCALENDAR
VERSION:2.0
PRODID:-//ChamberMaster//Event Calendar 2.0//EN
METHOD:PUBLISH
X-PUBLISHED-TTL:P3D
REFRESH-INTERVAL:P3D
CALSCALE:GREGORIAN
BEGIN:VEVENT
DTSTART:20191026T000000Z
DTEND:20191026T020000Z
X-MICROSOFT-CDO-ALLDAYEVENT:FALSE
SUMMARY:O'Keefe-Mason-Kinard Featuring Addie Brown
DESCRIPTION:O'KEEFE: Based in Austin\, TX\, O'KEEFE is the solo project of Erin O'Keefe\, co-founder of indie trio\, The Succulents. Equal parts wry lyrics and lush vibes\, O'KEEFE's music contains elements of  1960's soul/r&b\, pseudo-modern dream pop\, orchestral anthems\, and much more. Trent Pruitt on bass\, Matt Long on drums\, Eli Southard on lead guitar.\n\n\n\nTickets $10\n\nPot Luck and meet the band 6-7
X-ALT-DESC;FMTTYPE=text/html:<span style="background-color:rgb(255\, 255\, 255)\; color:rgb(29\, 33\, 41)\; font-family:inherit\; font-size:14px">O&#39\;KEEFE: Based in Austin\, TX\, O&#39\;KEEFE is the solo project of Erin O&#39\;Keefe\, co-founder of indie trio\, The Succulents. Equal parts wry lyrics and lush vibes\, O&#39\;KEEFE&#39\;s music contains elements of&nbsp\; 1960&#39\;s soul/r&amp\;b\, pseudo-modern dream pop\, orchestral anthems\, and much more. Trent Pruitt on bass\, Matt Long on drums\, Eli Southard on lead guitar.<br />\n<br />\nTickets $10<br />\nPot Luck and meet the band 6-7</span>
LOCATION:The Boiler Room Brewhaus 2 S. National Ave Fort Scott\, KS 66701
UID:e.2874.13588
SEQUENCE:3
DTSTAMP:20260420T112721Z
URL:https://fortscott.com/events/details/o-keefe-mason-kinard-featuring-addie-brown-13588
END:VEVENT

END:VCALENDAR
