BEGIN:VCALENDAR
VERSION:2.0
PRODID:-//ChamberMaster//Event Calendar 2.0//EN
METHOD:PUBLISH
X-PUBLISHED-TTL:P3D
REFRESH-INTERVAL:P3D
CALSCALE:GREGORIAN
BEGIN:VEVENT
DTSTART:20220413T133000Z
DTEND:20220413T230000Z
X-MICROSOFT-CDO-ALLDAYEVENT:FALSE
SUMMARY:One-Day Shuttle Trip to view the Gordon Parks
DESCRIPTION:Join us for a one-day Shuttle trip to the Gordon Parks exhibition at the Beach Museum of Art at Kansas State University in Manhattan\, KS. We will also view the Doug Barrett: Find your Voice exhibition at the museum.\n\n\n\nShuttle leaves at 8:30am from the Gordon Parks Museum parking lot \n\nLunch on your own at 12pm. Restaurants within walking distance of the museum. Arrive back to Fort Scott at 6pm \n\n\n\nTickets are only $10 for the shuttle transportation. The admission to the museum is free. \n\n\n\nClick into the link below to purchase your ticket(s). You can also come to the museum or call 620 -223-2700 ext. 5850\n\nhttps://www.gordonparkscenter.org/event-details/one-day-shuttle-trip-to-the-gordon-parks-homeward-to-the-prairie-i-come-doug-barrett-find-your-voice-exhibition-1\n\n\n\nRegistration deadline: Tuesday\, April 12\, 2022
X-ALT-DESC;FMTTYPE=text/html:<span style="background-image:initial\;background-position:initial\;background-size:initial\;background-repeat:initial\;background-attachment:initial\;background-origin:initial\;background-clip:initial\;"><span style="color:#050505\;">Join us for a one-day Shuttle trip to the Gordon Parks exhibition at the Beach Museum of Art at Kansas State University in Manhattan\, KS. We will also view the Doug Barrett: Find your Voice exhibition at the museum.</span></span><br />\n<br />\n<span style="color: rgb(51\, 51\, 51)\; font-family: sans-serif\, Arial\, Verdana\, &quot\;Trebuchet MS&quot\;\; font-size: 13px\; background-color: rgb(255\, 255\, 255)\;">Shuttle leaves at 8:30am from the Gordon Parks Museum parking lot&nbsp\;</span><br />\nLunch on your own at 12pm. Restaurants within walking distance of the museum. Arrive back to Fort Scott at 6pm&nbsp\;<br />\n<br />\n<span style="color:#050505\;">Tickets are only $10 for the shuttle transportation. The admission to the museum is free.&nbsp\;</span><br />\n<br />\n<span style="color:#050505\;">Click into the link below to purchase your ticket(s). You can also come to the museum or call 620 -223-2700 ext. 5850</span><br />\n<span style="background-image:initial\;background-position:initial\;background-size:initial\;background-repeat:initial\;background-attachment:initial\;background-origin:initial\;background-clip:initial\;"><span style="color:#050505\;"><a data-saferedirecturl="https://www.google.com/url?q=https://www.gordonparkscenter.org/event-details/one-day-shuttle-trip-to-the-gordon-parks-homeward-to-the-prairie-i-come-doug-barrett-find-your-voice-exhibition-1&amp\;source=gmail&amp\;ust=1646931018226000&amp\;usg=AOvVaw0INByUIHOOyUHfF6yiiIra" href="https://www.gordonparkscenter.org/event-details/one-day-shuttle-trip-to-the-gordon-parks-homeward-to-the-prairie-i-come-doug-barrett-find-your-voice-exhibition-1" style="color:rgb(17\, 85\, 204)\;" target="_blank">https://www.gordonparkscenter.<wbr />org/event-details/one-day-<wbr />shuttle-trip-to-the-gordon-<wbr />parks-homeward-to-the-prairie-<wbr />i-come-doug-barrett-find-your-<wbr />voice-exhibition-1</a><br />\n<br />\nRegistration deadline: Tuesday\, April 12\, 2022</span></span>
LOCATION:Shuttle leaves at 8:30am from the Gordon Parks Museum parking lot 2108 S Horton St\, Fort Scott\, KS 66701
UID:e.2874.24542
SEQUENCE:3
DTSTAMP:20260425T172707Z
URL:https://fortscott.com/events/details/one-day-shuttle-trip-to-view-the-gordon-parks-24542
END:VEVENT

END:VCALENDAR
