BEGIN:VCALENDAR
VERSION:2.0
PRODID:-//ChamberMaster//Event Calendar 2.0//EN
METHOD:PUBLISH
X-PUBLISHED-TTL:P3D
REFRESH-INTERVAL:P3D
CALSCALE:GREGORIAN
BEGIN:VEVENT
DTSTART:20231201T230000Z
DTEND:20231202T020000Z
X-MICROSOFT-CDO-ALLDAYEVENT:FALSE
SUMMARY:Pictures with Santa at Be the Light Boutique
DESCRIPTION:Pictures with Santa at Be the Light Boutique\n\nas part of the Christmas on the Bricks Festival\n\n\n\nCome tell Santa your Christmas wish and take pictures with your own camera with a beautiful backdrop!\n\n\n\nFriday 5-8pm\n\nSaturday 12-2pm and 5-8pm\n\n\n\nInside Be the Light Boutique\, 12 N. Main St.\n\n\n\nFREE!
X-ALT-DESC;FMTTYPE=text/html:<span style="font-size:20px\;"><span style="font-family:times new roman\;"><span style="color:#A52A2A\;"><span style="font-size:22px\;"><strong>Pictures with Santa at Be the Light Boutique</strong></span></span><br />\n<em>as part of the Christmas on the Bricks Festival</em><br />\n<br />\nCome tell Santa your Christmas wish and take pictures with your own camera with a beautiful backdrop!<br />\n<br />\nFriday 5-8pm<br />\nSaturday 12-2pm and 5-8pm<br />\n<br />\nInside Be the Light Boutique\, 12 N. Main St.<br />\n<br />\nFREE!</span></span>
LOCATION:
UID:e.2874.29779
SEQUENCE:3
DTSTAMP:20260425T124007Z
URL:https://fortscott.com/events/details/pictures-with-santa-at-be-the-light-boutique-29779
END:VEVENT

END:VCALENDAR
