BEGIN:VCALENDAR
VERSION:2.0
PRODID:-//ChamberMaster//Event Calendar 2.0//EN
METHOD:PUBLISH
X-PUBLISHED-TTL:P3D
REFRESH-INTERVAL:P3D
CALSCALE:GREGORIAN
BEGIN:VEVENT
DTSTART;VALUE=DATE:20191018
DTEND;VALUE=DATE:20191021
TRANSP:TRANSPARENT
X-MICROSOFT-CDO-ALLDAYEVENT:TRUE
SUMMARY:Pioneer Harvest Fiesta 2019
DESCRIPTION:Pioneer Harvest Fiesta 2019\, October 17th-20th\n\n\n\nClick here for full schedule of events!\n\n\n\n__________________\n\n\n\nThe 63rd Pioneer Harvest Fiesta comes to the Bourbon County Fairgrounds in Fort Scott\, Kansas October 18th\, 19th\, and 20th\, 2019.\n\n\n\nThe event kicks off with a Parade of Antique\, Classic Farm Implements and More through Fort Scott's historic downtown on Thursday the 17th at 6 PM! Contact the Fort Scott Area Chamber of Commerce to enter the parade.\n\n\n\nALL WEEKEND - STEAM ENGINES - DRAG SAW DEMOS - BLACKSMITH OPERATION - FLEA MARKET VENDORS - TRACTORS & GAS ENGINES DISPLAY - BAKER FAN DEMOS\n\n\n\nThis year's Fiesta promises to be the best yet\, with something for every member of the family! There will be Handmade Arts & Crafts in the 4-H building Saturday and Sunday. There is a Quilt Show in the Meyers building all three days. This year's Gas Engine Exhibit features a 1924 3hp Hercules gas engine. The Featured Tractor is a 1966 John Deere Model 1020 Diesel three cylinder\, 38hp.\n\n\n\nAgain this year\, Pioneer Harvest Fiesta features one of the largest\, most interesting Flea Markets in the Four-State's region. Experience educational and historic exhibits\, refreshments and live musical entertainment all weekend.\n\n\n\nAll three days are alive with Steam Engines\, Blacksmiths\, Food and Flea Market Vendors\, Drag Saw Demonstrations\, Tractors & Gas Engines on Display\, Baker Fan Demonstrations. Corn Shucking demonstrations\, Arts and Crafts\, Quilt Show\, Straw Bailing\, Wheat Thrashing\, Corn Husking/Shelling\, Rock Crushing\, Saw Mill Operation\, Parade of Power\, and many more exciting events! It's one great weekend to kick off Fall in the 4-state's region! It's the 63rd annual Pioneer Harvest Fiesta\, at the Bourbon County Fairgrounds in Historic Fort Scott\, Kansas.\n\n\n\nAdmission\n\nThis year's Full Weekend Admission is only $5.00 per person and includes Collector Button & Friday Bean Feed at 5 PM. Children under age 12 - FREE Free admission does not include button. Prior year Collector Buttons available\, $1.00.\n\n\n\nCelebrate Our Rich Agricultural Heritage!
X-ALT-DESC;FMTTYPE=text/html:Pioneer Harvest Fiesta 2019\, October 17th-20th<br />\n<br />\n<span style="font-size:20px\;">Click <strong><a href="https://chambermaster.blob.core.windows.net/userfiles/UserFiles/chambers/2874/File/PioneerHarvestFiestaEventsFlyer2019.pdf"><span style="color:#FF0000\;">here</span></a></strong> for full schedule of events!</span><br />\n<br />\n__________________<br />\n<br />\n<span style="color: rgb(29\, 33\, 41)\; font-family: Helvetica\, Arial\, sans-serif\; font-size: 14px\; white-space: pre-wrap\;">The 63rd Pioneer Harvest Fiesta comes to the Bourbon County Fairgrounds in Fort Scott\, Kansas October 18th\, 19th\, and 20th\, 2019.</span><br style="color: rgb(29\, 33\, 41)\; font-family: Helvetica\, Arial\, sans-serif\; font-size: 14px\; white-space: pre-wrap\;" />\n<br style="color: rgb(29\, 33\, 41)\; font-family: Helvetica\, Arial\, sans-serif\; font-size: 14px\; white-space: pre-wrap\;" />\n<span style="color: rgb(29\, 33\, 41)\; font-family: Helvetica\, Arial\, sans-serif\; font-size: 14px\; white-space: pre-wrap\;">The event kicks off with a Parade of Antique\, Classic Farm Implements and More through Fort Scott&#39\;s historic downtown on Thursday the 17th at 6 PM! Contact the Fort Scott Area Chamber of Commerce to enter the parade.</span><br style="color: rgb(29\, 33\, 41)\; font-family: Helvetica\, Arial\, sans-serif\; font-size: 14px\; white-space: pre-wrap\;" />\n<br style="color: rgb(29\, 33\, 41)\; font-family: Helvetica\, Arial\, sans-serif\; font-size: 14px\; white-space: pre-wrap\;" />\n<span style="color: rgb(29\, 33\, 41)\; font-family: Helvetica\, Arial\, sans-serif\; font-size: 14px\; white-space: pre-wrap\;">ALL WEEKEND - STEAM ENGINES - DRAG SAW DEMOS - BLACKSMITH OPERATION - FLEA MARKET VENDORS - TRACTORS &amp\; GAS ENGINES DISPLAY - BAKER FAN DEMOS</span><br style="color: rgb(29\, 33\, 41)\; font-family: Helvetica\, Arial\, sans-serif\; font-size: 14px\; white-space: pre-wrap\;" />\n<br style="color: rgb(29\, 33\, 41)\; font-family: Helvetica\, Arial\, sans-serif\; font-size: 14px\; white-space: pre-wrap\;" />\n<span style="color: rgb(29\, 33\, 41)\; font-family: Helvetica\, Arial\, sans-serif\; font-size: 14px\; white-space: pre-wrap\;">This year&#39\;s Fiesta promises to be the best yet\, with something for every member of the family! There will be Handmade Arts &amp\; Crafts in the 4-H building Saturday and Sunday. There is a Quilt Show in the Meyers building all three days. This year&#39\;s Gas Engine Exhibit features a 1924 3hp Hercules gas engine. The Featured Tractor is a 1966 John Deere Model 1020 Diesel three cylinder\, 38hp.</span><br style="color: rgb(29\, 33\, 41)\; font-family: Helvetica\, Arial\, sans-serif\; font-size: 14px\; white-space: pre-wrap\;" />\n<br style="color: rgb(29\, 33\, 41)\; font-family: Helvetica\, Arial\, sans-serif\; font-size: 14px\; white-space: pre-wrap\;" />\n<span style="color: rgb(29\, 33\, 41)\; font-family: Helvetica\, Arial\, sans-serif\; font-size: 14px\; white-space: pre-wrap\;">Again this year\, Pioneer Harvest Fiesta features one of the largest\, most interesting Flea Markets in the Four-State&#39\;s region. Experience educational and historic exhibits\, refreshments and live musical entertainment all weekend.</span><br style="color: rgb(29\, 33\, 41)\; font-family: Helvetica\, Arial\, sans-serif\; font-size: 14px\; white-space: pre-wrap\;" />\n<br style="color: rgb(29\, 33\, 41)\; font-family: Helvetica\, Arial\, sans-serif\; font-size: 14px\; white-space: pre-wrap\;" />\n<span style="color: rgb(29\, 33\, 41)\; font-family: Helvetica\, Arial\, sans-serif\; font-size: 14px\; white-space: pre-wrap\;">All three days are alive with Steam Engines\, Blacksmiths\, Food and Flea Market Vendors\, Drag Saw Demonstrations\, Tractors &amp\; Gas Engines on Display\, Baker Fan Demonstrations. Corn Shucking demonstrations\, Arts and Crafts\, Quilt Show\, Straw Bailing\, Wheat Thrashing\, Corn Husking/Shelling\, Rock Crushing\, Saw Mill Operation\, Parade of Power\, and many more exciting events! It&#39\;s one great weekend to kick off Fall in the 4-state&#39\;s region! It&#39\;s the 63rd annual Pioneer Harvest Fiesta\, at the Bourbon County Fairgrounds in Historic Fort Scott\, Kansas.</span><br style="color: rgb(29\, 33\, 41)\; font-family: Helvetica\, Arial\, sans-serif\; font-size: 14px\; white-space: pre-wrap\;" />\n<br style="color: rgb(29\, 33\, 41)\; font-family: Helvetica\, Arial\, sans-serif\; font-size: 14px\; white-space: pre-wrap\;" />\n<span style="color: rgb(29\, 33\, 41)\; font-family: Helvetica\, Arial\, sans-serif\; font-size: 14px\; white-space: pre-wrap\;">Admission</span><br style="color: rgb(29\, 33\, 41)\; font-family: Helvetica\, Arial\, sans-serif\; font-size: 14px\; white-space: pre-wrap\;" />\n<span style="color: rgb(29\, 33\, 41)\; font-family: Helvetica\, Arial\, sans-serif\; font-size: 14px\; white-space: pre-wrap\;">This year&#39\;s Full Weekend Admission is only $5.00 per person and includes Collector Button &amp\; Friday Bean Feed at 5 PM. Children under age 12 - FREE Free admission does not include button. Prior year Collector Buttons available\, $1.00.</span><br style="color: rgb(29\, 33\, 41)\; font-family: Helvetica\, Arial\, sans-serif\; font-size: 14px\; white-space: pre-wrap\;" />\n<br style="color: rgb(29\, 33\, 41)\; font-family: Helvetica\, Arial\, sans-serif\; font-size: 14px\; white-space: pre-wrap\;" />\n<span style="color: rgb(29\, 33\, 41)\; font-family: Helvetica\, Arial\, sans-serif\; font-size: 14px\; white-space: pre-wrap\;">Celebrate Our Rich Agricultural Heritage!</span><br />\n<br />\n&nbsp\;
LOCATION:Bourbon County Fairgrounds
UID:e.2874.11268
SEQUENCE:3
DTSTAMP:20260420T112459Z
URL:https://fortscott.com/events/details/pioneer-harvest-fiesta-2019-11268
END:VEVENT

END:VCALENDAR
