BEGIN:VCALENDAR
VERSION:2.0
PRODID:-//ChamberMaster//Event Calendar 2.0//EN
METHOD:PUBLISH
X-PUBLISHED-TTL:P3D
REFRESH-INTERVAL:P3D
CALSCALE:GREGORIAN
BEGIN:VEVENT
DTSTART:20210930T230000Z
DTEND:20211001T000000Z
X-MICROSOFT-CDO-ALLDAYEVENT:FALSE
SUMMARY:Pioneer Harvest Fiesta Parade
DESCRIPTION:Pioneer Harvest Fiesta Parade\n\nEntry forms also available at the Chamber of Commerce!\n\nREGISTER ONLINE OR CLICK HERE TO PRINT AND PRINT TO THE CHAMBER.\n\n\n\nDEADLINE OF ENTRY IS WEDNESDAY\, SEPTEMBER 29TH AT 10 AM.
X-ALT-DESC;FMTTYPE=text/html:<span style="color: rgb(0\, 0\, 255)\;"><span style="font-family: &quot\;comic sans ms&quot\;\;"><strong><span style="font-size: 18px\;">Pioneer Harvest Fiesta Parade</span></strong></span></span><br />\nEntry forms also available at the Chamber of Commerce!<br />\nREGISTER ONLINE OR&nbsp\;<a href="https://chambermaster.blob.core.windows.net/userfiles/UserFiles/chambers/2874/File/PioneerHarvestFiestaParadeEntryForm.pdf"><u><span style="color: rgb(0\, 0\, 255)\;"><strong>CLICK HERE</strong></span></u></a>&nbsp\;TO PRINT AND PRINT TO THE CHAMBER.<br />\n<br />\n<span style="color:#FF0000\;"><strong>DEADLINE OF ENTRY IS WEDNESDAY\, SEPTEMBER 29TH AT 10 AM.</strong></span>
LOCATION:Downtown Fort Scott! Starts at 6th & Main\, to Wall St.\, west to National\, and south to 6th St.
UID:e.2874.21441
SEQUENCE:3
DTSTAMP:20260421T123831Z
URL:https://fortscott.com/events/details/pioneer-harvest-fiesta-parade-21441
END:VEVENT

END:VCALENDAR
