BEGIN:VCALENDAR
VERSION:2.0
PRODID:-//ChamberMaster//Event Calendar 2.0//EN
METHOD:PUBLISH
X-PUBLISHED-TTL:P3D
REFRESH-INTERVAL:P3D
CALSCALE:GREGORIAN
BEGIN:VEVENT
DTSTART:20220506T130000Z
DTEND:20220506T220000Z
X-MICROSOFT-CDO-ALLDAYEVENT:FALSE
SUMMARY:Pioneer Harvest Swap Meet - Bourbon County Fairgrounds
DESCRIPTION:PIONEER HARVEST SWAP MEET\n\nin Fort Scott at the Bourbon County Fairgrounds\, May 6th & 7th\, 2022!\n\nflea market & garage sale items  \n\nantique gas engines  \n\nantique auto parts  \n\nfarm tractors & tractor parts  \n\nfarm equipment & accessories  \n\nand more!\n\nGates open at 8am each day -\n\nall booths under cover!\n\nCamping available w/electric $20\n\n$10 fee for a Swap Meet booth\n\nGrounds will be open Thurs. for setup\n\nContacts:\n\nAllen Warren 620.224.7761\n\nJackie Warren 620.224.8161\n\nEmail: jackiewar.fs@gmail.com\n\nTOWN-WIDE GARAGE SALE THE SAME WEEKEND AS WELL AS THE BIG KANSAS ROAD TRIP! Lots of shoppers out & about!
X-ALT-DESC;FMTTYPE=text/html:<div class="kvgmc6g5 cxmmr5t8 oygrvhab hcukyx3x c1et5uql" style="overflow-wrap: break-word\; margin: 0px\; font-family: &quot\;Segoe UI Historic&quot\;\, &quot\;Segoe UI&quot\;\, Helvetica\, Arial\, sans-serif\; color: rgb(5\, 5\, 5)\; font-size: 15px\;">PIONEER HARVEST SWAP MEET<br />\nin Fort Scott at the Bourbon County Fairgrounds\, May 6th &amp\; 7th\, 2022!</div>\n\n<div class="cxmmr5t8 oygrvhab hcukyx3x c1et5uql o9v6fnle" style="overflow-wrap: break-word\; margin: 0.5em 0px 0px\; font-family: &quot\;Segoe UI Historic&quot\;\, &quot\;Segoe UI&quot\;\, Helvetica\, Arial\, sans-serif\; color: rgb(5\, 5\, 5)\; font-size: 15px\;">flea market &amp\; garage sale items &bull\;<br />\nantique gas engines &bull\;<br />\nantique auto parts &bull\;<br />\nfarm tractors &amp\; tractor parts &bull\;<br />\nfarm equipment &amp\; accessories &bull\;<br />\nand more!</div>\n\n<div class="cxmmr5t8 oygrvhab hcukyx3x c1et5uql o9v6fnle" style="overflow-wrap: break-word\; margin: 0.5em 0px 0px\; font-family: &quot\;Segoe UI Historic&quot\;\, &quot\;Segoe UI&quot\;\, Helvetica\, Arial\, sans-serif\; color: rgb(5\, 5\, 5)\; font-size: 15px\;">Gates open at 8am each day -<br />\nall booths under cover!</div>\n\n<div class="cxmmr5t8 oygrvhab hcukyx3x c1et5uql o9v6fnle" style="overflow-wrap: break-word\; margin: 0.5em 0px 0px\; font-family: &quot\;Segoe UI Historic&quot\;\, &quot\;Segoe UI&quot\;\, Helvetica\, Arial\, sans-serif\; color: rgb(5\, 5\, 5)\; font-size: 15px\;">Camping available w/electric $20</div>\n\n<div class="cxmmr5t8 oygrvhab hcukyx3x c1et5uql o9v6fnle" style="overflow-wrap: break-word\; margin: 0.5em 0px 0px\; font-family: &quot\;Segoe UI Historic&quot\;\, &quot\;Segoe UI&quot\;\, Helvetica\, Arial\, sans-serif\; color: rgb(5\, 5\, 5)\; font-size: 15px\;">$10 fee for a Swap Meet booth<br />\nGrounds will be open Thurs. for setup</div>\n\n<div class="cxmmr5t8 oygrvhab hcukyx3x c1et5uql o9v6fnle" style="overflow-wrap: break-word\; margin: 0.5em 0px 0px\; font-family: &quot\;Segoe UI Historic&quot\;\, &quot\;Segoe UI&quot\;\, Helvetica\, Arial\, sans-serif\; color: rgb(5\, 5\, 5)\; font-size: 15px\;">Contacts:<br />\nAllen Warren 620.224.7761<br />\nJackie Warren 620.224.8161<br />\nEmail: jackiewar.fs@gmail.com</div>\n\n<div class="cxmmr5t8 oygrvhab hcukyx3x c1et5uql o9v6fnle" style="overflow-wrap: break-word\; margin: 0.5em 0px 0px\; font-family: &quot\;Segoe UI Historic&quot\;\, &quot\;Segoe UI&quot\;\, Helvetica\, Arial\, sans-serif\; color: rgb(5\, 5\, 5)\; font-size: 15px\;">TOWN-WIDE GARAGE SALE THE SAME WEEKEND AS WELL AS THE BIG KANSAS ROAD TRIP! Lots of shoppers out &amp\; about!</div>\n
LOCATION:
UID:e.2874.23934
SEQUENCE:3
DTSTAMP:20260425T161157Z
URL:https://fortscott.com/events/details/pioneer-harvest-swap-meet-bourbon-county-fairgrounds-23934
END:VEVENT

END:VCALENDAR
