BEGIN:VCALENDAR
VERSION:2.0
PRODID:-//ChamberMaster//Event Calendar 2.0//EN
METHOD:PUBLISH
X-PUBLISHED-TTL:P3D
REFRESH-INTERVAL:P3D
CALSCALE:GREGORIAN
BEGIN:VEVENT
DTSTART:20220519T150000Z
DTEND:20220519T160000Z
X-MICROSOFT-CDO-ALLDAYEVENT:FALSE
SUMMARY:Postponed to July: Tax Sale for Properties with Delinquent Property Tax
DESCRIPTION:
X-ALT-DESC;FMTTYPE=text/html:
LOCATION:
UID:e.2874.22923
SEQUENCE:3
DTSTAMP:20260425T162016Z
URL:https://fortscott.com/events/details/postponed-to-july-tax-sale-for-properties-with-delinquent-property-tax-22923
END:VEVENT

END:VCALENDAR
