BEGIN:VCALENDAR
VERSION:2.0
PRODID:-//ChamberMaster//Event Calendar 2.0//EN
METHOD:PUBLISH
X-PUBLISHED-TTL:P3D
REFRESH-INTERVAL:P3D
CALSCALE:GREGORIAN
BEGIN:VEVENT
DTSTART:20190726T150000Z
DTEND:20190726T190000Z
X-MICROSOFT-CDO-ALLDAYEVENT:FALSE
SUMMARY:Pulled Pork Fundraiser at Medicalodges Fort Scott
DESCRIPTION:Medicalodges of Fort Scott is holding a Pulled Pork Fundraiser to benefit the Alzheimer's Association on Friday\, July 26th from 10am-2pm.\n\n\n\nMenu: Pulled pork sandwich\, baked beans\, chips\, cookie... $5\n\n\n\n- Drive up to the south end of building (915 S. Horton) for your order to be brought to you\n\n- Any order with 10 or more dinners can be delivered if requested\n\n- You may call your order in ahead of time: 620-223-0210
X-ALT-DESC;FMTTYPE=text/html:Medicalodges of Fort Scott is holding a Pulled Pork Fundraiser to benefit the Alzheimer&#39\;s Association on Friday\, July 26th from 10am-2pm.<br />\n<br />\nMenu: Pulled pork sandwich\, baked beans\, chips\, cookie... $5<br />\n<br />\n- Drive up to the south end of building (915 S. Horton) for your order to be brought to you<br />\n- Any order with 10 or more dinners can be delivered if requested<br />\n- <strong>You may call your order in ahead of time: 620-223-0210</strong>
LOCATION:
UID:e.2874.13282
SEQUENCE:3
DTSTAMP:20260422T105709Z
URL:https://fortscott.com/events/details/pulled-pork-fundraiser-at-medicalodges-fort-scott-13282
END:VEVENT

END:VCALENDAR
