BEGIN:VCALENDAR
VERSION:2.0
PRODID:-//ChamberMaster//Event Calendar 2.0//EN
METHOD:PUBLISH
X-PUBLISHED-TTL:P3D
REFRESH-INTERVAL:P3D
CALSCALE:GREGORIAN
BEGIN:VEVENT
DTSTART:20191001T133000Z
DTEND:20191001T143000Z
X-MICROSOFT-CDO-ALLDAYEVENT:FALSE
SUMMARY:Quarterly Downtown Meet & Greet hosted by the Chamber
DESCRIPTION:The Chamber of Commerce hosts Quarterly Downtown Meet & Greets at a different location for Downtown business owners or representatives\, or anyone in the community with an interest in Downtown to attend and share thoughts and ideas related to Downtown\, and to stay current on new happenings.
X-ALT-DESC;FMTTYPE=text/html:The Chamber of Commerce hosts Quarterly Downtown Meet &amp\; Greets at a different location for Downtown business owners or representatives\, or anyone in the community with an interest in Downtown to attend and share thoughts and ideas related to Downtown\, and to stay current on new happenings.&nbsp\;
LOCATION:Papa Don's Pizza - 10 N. Main St.\, Fort Scott
UID:e.2874.11272
SEQUENCE:3
DTSTAMP:20260420T124623Z
URL:https://fortscott.com/events/details/quarterly-downtown-meet-greet-hosted-by-the-chamber-11272
END:VEVENT

END:VCALENDAR
