BEGIN:VCALENDAR
VERSION:2.0
PRODID:-//ChamberMaster//Event Calendar 2.0//EN
METHOD:PUBLISH
X-PUBLISHED-TTL:P3D
REFRESH-INTERVAL:P3D
CALSCALE:GREGORIAN
BEGIN:VEVENT
DTSTART;VALUE=DATE:20191003
DTEND;VALUE=DATE:20191006
TRANSP:TRANSPARENT
X-MICROSOFT-CDO-ALLDAYEVENT:TRUE
SUMMARY:16th Annual Gordon Parks Celebration! Celebrating the 50th Anniversary of the film "The Learning Tree"
DESCRIPTION:16th Annual Gordon Parks Celebration!  Celebrating the 50th Anniversary of the film "The Learning Tree"\n\n\n\nKarole Graham\, Stephen Perry and S. Pearl Sharp\, cast members in "The Learning Tree" film by Gordon Parks\, will receive "Gordon Parks Choice of Weapons Award" at the annual celebration this October 3-5\, 2019 in Fort Scott\, Kansas. The celebration is in honor of Fort Scott native Gordon Parks\, noted photographer\, writer\, musician\, and filmmaker. This year's celebration is a special one as we will be celebrating the 50th anniversary of the Gordon Parks-directed film The Learning Tree that was filmed in Fort Scott. \n\n\n\nFor a full schedule of events and special event registration\, click http://www.gordonparkscenter.org/annual-celebration/schedule-of-events/
X-ALT-DESC;FMTTYPE=text/html:&nbsp\;16th Annual Gordon Parks Celebration!&nbsp\;&nbsp\;Celebrating the 50th Anniversary of the film &quot\;The Learning Tree&quot\;<br />\n<br />\nKarole Graham\, Stephen Perry and S. Pearl Sharp\, cast members in &quot\;The Learning Tree&quot\; film by Gordon Parks\, will receive &quot\;Gordon Parks Choice of Weapons Award&quot\; at the annual celebration this October 3-5\, 2019 in Fort Scott\, Kansas. The celebration is in honor of Fort Scott native Gordon Parks\, noted photographer\, writer\, musician\, and filmmaker. This year&#39\;s celebration is a special one as we will be celebrating the 50th anniversary of the Gordon Parks-directed film&nbsp\;<em>The Learning Tree&nbsp\;</em>that was filmed in Fort Scott.&nbsp\;<br />\n<br />\nFor a full schedule of events and special event registration\, click&nbsp\;<a href="http://www.gordonparkscenter.org/annual-celebration/schedule-of-events/">http://www.gordonparkscenter.org/annual-celebration/schedule-of-events/</a>
LOCATION:Gordon Parks Museum/ Danny And Willa Ellis Fine Arts Center at Fort Scott Community College\, 2018 S. Horton\, Fort Scott
UID:e.2874.12574
SEQUENCE:3
DTSTAMP:20260420T111829Z
URL:https://fortscott.com/events/details/save-the-date-16th-annual-gordon-parks-celebration-12574
END:VEVENT

END:VCALENDAR
