BEGIN:VCALENDAR
VERSION:2.0
PRODID:-//ChamberMaster//Event Calendar 2.0//EN
METHOD:PUBLISH
X-PUBLISHED-TTL:P3D
REFRESH-INTERVAL:P3D
CALSCALE:GREGORIAN
BEGIN:VEVENT
DTSTART:20191021T230000Z
DTEND:20191022T000000Z
X-MICROSOFT-CDO-ALLDAYEVENT:FALSE
SUMMARY:School Board Candidate Meet and Greet Announced by: Kansas Appleseed
DESCRIPTION:Local. Elections. Matter! Join local school board candidates in Bourbon Co. as they introduce themselves and their ideas to voters (i.e. YOU) at an informal event at the Boiler Room Brewhaus. This event is free\, nonpartisan\, and open to all. RSVP: https://www.facebook.com/events/556283245110862/
X-ALT-DESC;FMTTYPE=text/html:Local. Elections. Matter! Join local school board candidates in Bourbon Co. as they introduce themselves and their ideas to voters (i.e. YOU) at an informal event at the Boiler Room Brewhaus. This event is free\, nonpartisan\, and open to all. RSVP: https://www.facebook.com/events/556283245110862/
LOCATION:2 S. National Ave\, Fort Scott\, Kansas 66701
UID:e.2874.13635
SEQUENCE:3
DTSTAMP:20260420T125258Z
URL:https://fortscott.com/events/details/school-board-candidate-meet-and-greet-announced-by-kansas-appleseed-13635
END:VEVENT

END:VCALENDAR
