BEGIN:VCALENDAR
VERSION:2.0
PRODID:-//ChamberMaster//Event Calendar 2.0//EN
METHOD:PUBLISH
X-PUBLISHED-TTL:P3D
REFRESH-INTERVAL:P3D
CALSCALE:GREGORIAN
BEGIN:VEVENT
DTSTART:20231021T190000Z
DTEND:20231021T210000Z
X-MICROSOFT-CDO-ALLDAYEVENT:FALSE
SUMMARY:Sewing Bee at Fort Scott National Historic Site
DESCRIPTION:Come out and put your sewing skills to use while helping the Fort Scott National Historic Site. \n\nThis event is from 2-4pm.\n\n\n\nFor more information call the Fort Scott National Historic Site at 620.223.0310
X-ALT-DESC;FMTTYPE=text/html:Come out and put your sewing skills to use while helping the Fort Scott National Historic Site.&nbsp\;<br />\nThis event is from 2-4pm.<br />\n<br />\nFor more information call the Fort Scott National Historic Site at 620.223.0310
LOCATION:
UID:e.2874.29747
SEQUENCE:3
DTSTAMP:20260421T130826Z
URL:https://fortscott.com/events/details/sewing-bee-at-fort-scott-national-historic-site-29747
END:VEVENT

END:VCALENDAR
