BEGIN:VCALENDAR
VERSION:2.0
PRODID:-//ChamberMaster//Event Calendar 2.0//EN
METHOD:PUBLISH
X-PUBLISHED-TTL:P3D
REFRESH-INTERVAL:P3D
CALSCALE:GREGORIAN
BEGIN:VEVENT
DTSTART:20191010T150000Z
DTEND:20191010T213000Z
X-MICROSOFT-CDO-ALLDAYEVENT:FALSE
SUMMARY:Star Wars Reads Day Celebration - Fort Scott Public Library
DESCRIPTION:
X-ALT-DESC;FMTTYPE=text/html:
LOCATION:
UID:e.2874.13484
SEQUENCE:3
DTSTAMP:20260420T112602Z
URL:https://fortscott.com/events/details/star-wars-reads-day-celebration-fort-scott-public-library-13484
END:VEVENT

END:VCALENDAR
