BEGIN:VCALENDAR
VERSION:2.0
PRODID:-//ChamberMaster//Event Calendar 2.0//EN
METHOD:PUBLISH
X-PUBLISHED-TTL:P3D
REFRESH-INTERVAL:P3D
CALSCALE:GREGORIAN
BEGIN:VEVENT
DTSTART;VALUE=DATE:20220521
DTEND;VALUE=DATE:20220522
TRANSP:TRANSPARENT
X-MICROSOFT-CDO-ALLDAYEVENT:TRUE
SUMMARY:Step Into Summer Sidewalk Sale
DESCRIPTION:The Fort Scott Area Chamber of Commerce announces a Step Into Summer Sidewalk Sale on Saturday\, May 21st. Retailers in the Downtown Historic District and other locations will have sales set up in front of their stores with deals\, special drawings\, refreshments and more!\n\nParticipating Retailers:\n\nAngie Dawn's\n\nBartelsmeyer - Sale inside\n\nBids & Dibs\n\nHare & Crow Barber Shop - Coffee & Pastries throughout the morning\, Men's grooming & hand-made goods on sale\n\nHedgehog.INK Bookstore - Sales on 20th & 21st\, 'Stuff a Bag' Promo\, fill a small bag with gently used books for $1 or a large bag for $3\n\nIron star antiques & such\n\nMain Street Vintage & Co.\n\nMayco Ace\n\nMuseum of Creativity Gift Shop\n\nRuddicks\n\nShirt Shack\n\nSunshine Boutique\n\nTreasure Hunt Flea Market\n\nMore details to come!
X-ALT-DESC;FMTTYPE=text/html:<div class="kvgmc6g5 cxmmr5t8 oygrvhab hcukyx3x c1et5uql" style="overflow-wrap: break-word\; margin: 0px\; font-family: &quot\;Segoe UI Historic&quot\;\, &quot\;Segoe UI&quot\;\, Helvetica\, Arial\, sans-serif\; color: rgb(5\, 5\, 5)\; font-size: 15px\; background-color: rgb(255\, 255\, 255)\;">The Fort Scott Area Chamber of Commerce announces a Step Into Summer Sidewalk Sale on Saturday\, May 21st. Retailers in the Downtown Historic District and other locations will have sales set up in front of their stores with deals\, special drawings\, refreshments and more!</div>\n\n<div class="cxmmr5t8 oygrvhab hcukyx3x c1et5uql o9v6fnle" style="overflow-wrap: break-word\; margin: 0.5em 0px 0px\; font-family: &quot\;Segoe UI Historic&quot\;\, &quot\;Segoe UI&quot\;\, Helvetica\, Arial\, sans-serif\; color: rgb(5\, 5\, 5)\; font-size: 15px\; background-color: rgb(255\, 255\, 255)\;">Participating Retailers:<br />\nAngie Dawn&#39\;s<br />\nBartelsmeyer - Sale inside<br />\nBids &amp\; Dibs<br />\nHare &amp\; Crow Barber Shop - Coffee &amp\; Pastries throughout the morning\, Men&#39\;s grooming &amp\; hand-made goods on sale<br />\nHedgehog.INK Bookstore - Sales on 20th &amp\; 21st\, &#39\;Stuff a Bag&#39\; Promo\, fill a small bag with gently used books for $1 or a large bag for $3<br />\nIron star antiques &amp\; such<br />\nMain Street Vintage &amp\; Co.<br />\nMayco Ace<br />\nMuseum of Creativity Gift Shop<br />\nRuddicks<br />\nShirt Shack<br />\nSunshine Boutique<br />\nTreasure Hunt Flea Market</div>\n\n<div class="cxmmr5t8 oygrvhab hcukyx3x c1et5uql o9v6fnle" style="overflow-wrap: break-word\; margin: 0.5em 0px 0px\; font-family: &quot\;Segoe UI Historic&quot\;\, &quot\;Segoe UI&quot\;\, Helvetica\, Arial\, sans-serif\; color: rgb(5\, 5\, 5)\; font-size: 15px\; background-color: rgb(255\, 255\, 255)\;">More details to come!</div>\n
LOCATION:Downtown & Around
UID:e.2874.25079
SEQUENCE:3
DTSTAMP:20260425T160929Z
URL:https://fortscott.com/events/details/step-into-summer-sidewalk-sale-25079
END:VEVENT

END:VCALENDAR
