BEGIN:VCALENDAR
VERSION:2.0
PRODID:-//ChamberMaster//Event Calendar 2.0//EN
METHOD:PUBLISH
X-PUBLISHED-TTL:P3D
REFRESH-INTERVAL:P3D
CALSCALE:GREGORIAN
BEGIN:VEVENT
DTSTART:20191012T153000Z
DTEND:20191012T163000Z
X-MICROSOFT-CDO-ALLDAYEVENT:FALSE
SUMMARY:Storytime at Hedgehog.INK
DESCRIPTION:Storytime and special activity with an author at Hedgehog.INK.
X-ALT-DESC;FMTTYPE=text/html:Storytime and special activity with an author at Hedgehog.INK.&nbsp\;
LOCATION:Hedgehog.INK\, 16 S. Main St.\, Fort Scott
UID:e.2874.11517
SEQUENCE:3
DTSTAMP:20260420T111729Z
URL:https://fortscott.com/events/details/storytime-at-hedgehog-ink-11517
END:VEVENT

END:VCALENDAR
