BEGIN:VCALENDAR
VERSION:2.0
PRODID:-//ChamberMaster//Event Calendar 2.0//EN
METHOD:PUBLISH
X-PUBLISHED-TTL:P3D
REFRESH-INTERVAL:P3D
CALSCALE:GREGORIAN
BEGIN:VEVENT
DTSTART:20211204T193000Z
DTEND:20211204T203000Z
X-MICROSOFT-CDO-ALLDAYEVENT:FALSE
SUMMARY:Storytime with Santa at Hedghog.INK!
DESCRIPTION:Storytime at Hedgehog.INK! \n\nDecorate a cookie\n\nVisit with Santa\n\nListen to a story
X-ALT-DESC;FMTTYPE=text/html:Storytime at Hedgehog.INK!&nbsp\;<br />\nDecorate a cookie<br />\nVisit with Santa<br />\nListen to a story
LOCATION:16 S. Main St Fort Scott\, KS
UID:e.2874.22821
SEQUENCE:3
DTSTAMP:20260426T000320Z
URL:https://fortscott.com/events/details/storytime-with-santa-at-hedghog-ink-22821
END:VEVENT

END:VCALENDAR
