BEGIN:VCALENDAR
VERSION:2.0
PRODID:-//ChamberMaster//Event Calendar 2.0//EN
METHOD:PUBLISH
X-PUBLISHED-TTL:P3D
REFRESH-INTERVAL:P3D
CALSCALE:GREGORIAN
BEGIN:VEVENT
DTSTART:20210708T210000Z
DTEND:20210708T220000Z
X-MICROSOFT-CDO-ALLDAYEVENT:FALSE
SUMMARY:Street Advisory Board Meeting\, 4pm\, City Hall
DESCRIPTION:Street Advisory Board Meeting\, 4pm\, City Hall
X-ALT-DESC;FMTTYPE=text/html:Street Advisory Board Meeting\, 4pm\, City Hall
LOCATION:
UID:e.2874.20070
SEQUENCE:3
DTSTAMP:20260421T083947Z
URL:https://fortscott.com/events/details/street-advisory-board-meeting-4pm-city-hall-20070
END:VEVENT

END:VCALENDAR
