BEGIN:VCALENDAR
VERSION:2.0
PRODID:-//ChamberMaster//Event Calendar 2.0//EN
METHOD:PUBLISH
X-PUBLISHED-TTL:P3D
REFRESH-INTERVAL:P3D
CALSCALE:GREGORIAN
BEGIN:VEVENT
DTSTART;VALUE=DATE:20231201
DTEND;VALUE=DATE:20231204
TRANSP:TRANSPARENT
X-MICROSOFT-CDO-ALLDAYEVENT:TRUE
SUMMARY:The Artificers 7th Annual Christmas Show
DESCRIPTION:The Artificers 7th Annual Christmas Show\n\n\n\nMark it on you calendars and come in for all your Christmas gifts\, and decor! Our featured artists will be here in person\, so follow the link and come shop with The Artificers in person this holiday season!!\n\n\n\nDecember 1st: 5-9pm\n\nDecember 2nd: 10am-9pm\n\nDecember 3rd: 12pm-5pm\n\n \nTell us your coming by following this link!
X-ALT-DESC;FMTTYPE=text/html:<div class="x11i5rnm xat24cr x1mh8g0r x1vvkbs xtlvy1s x126k92a" style="margin: 0.5em 0px 0px\; overflow-wrap: break-word\; white-space-collapse: preserve\; font-family: &quot\;Segoe UI Historic&quot\;\, &quot\;Segoe UI&quot\;\, Helvetica\, Arial\, sans-serif\; color: rgb(5\, 5\, 5)\; font-size: 15px\;">\n<div dir="auto" style="font-family: inherit\;"><span style="font-size:20px\;"><span style="font-family:times new roman\;"><span style="color:#B22222\;"><strong>The Artificers 7th Annual Christmas Show</strong></span><br />\n<br />\nMark it on you calendars and come in for all your Christmas gifts\, and decor! Our featured artists will be here in person\, so follow the link and come shop with The Artificers in person this holiday season!!</span></span></div>\n</div>\n\n<div class="x11i5rnm xat24cr x1mh8g0r x1vvkbs xtlvy1s x126k92a" style="margin: 0.5em 0px 0px\; overflow-wrap: break-word\; white-space-collapse: preserve\; font-family: &quot\;Segoe UI Historic&quot\;\, &quot\;Segoe UI&quot\;\, Helvetica\, Arial\, sans-serif\; color: rgb(5\, 5\, 5)\; font-size: 15px\;">\n<div dir="auto" style="font-family: inherit\;"><span style="font-size:20px\;"><span style="font-family:times new roman\;">December 1st: 5-9pm</span></span></div>\n\n<div dir="auto" style="font-family: inherit\;"><span style="font-size:20px\;"><span style="font-family:times new roman\;">December 2nd: 10am-9pm</span></span></div>\n\n<div dir="auto" style="font-family: inherit\;"><span style="font-size:20px\;"><span style="font-family:times new roman\;">December 3rd: 12pm-5pm</span></span><br />\n&nbsp\;\n<div dir="auto" style="font-family: &quot\;Segoe UI Historic&quot\;\, &quot\;Segoe UI&quot\;\, Helvetica\, Arial\, sans-serif\; color: rgb(5\, 5\, 5)\; font-size: 15px\; white-space-collapse: preserve\;"><span style="font-size:20px\;"><span style="font-family:times new roman\;">Tell us your coming by following this <a href="https://www.facebook.com/events/1351466855453427/?acontext=%7B%22event_action_history%22%3A[%7B%22extra_data%22%3A%22%22%2C%22mechanism%22%3A%22left_rail%22%2C%22surface%22%3A%22bookmark%22%7D%2C%7B%22extra_data%22%3A%22%22%2C%22mechanism%22%3A%22surface%22%2C%22surface%22%3A%22create_dialog%22%7D]%2C%22ref_notif_type%22%3Anull%7D"><span style="color:#B22222\;">link</span></a>!</span></span></div>\n\n<div dir="auto" style="font-family: &quot\;Segoe UI Historic&quot\;\, &quot\;Segoe UI&quot\;\, Helvetica\, Arial\, sans-serif\; color: rgb(5\, 5\, 5)\; font-size: 15px\; white-space-collapse: preserve\;">&nbsp\;</div>\n</div>\n</div>\n
LOCATION:
UID:e.2874.29791
SEQUENCE:3
DTSTAMP:20260425T123830Z
URL:https://fortscott.com/events/details/the-artificers-7th-annual-christmas-show-29791
END:VEVENT

END:VCALENDAR
