BEGIN:VCALENDAR
VERSION:2.0
PRODID:-//ChamberMaster//Event Calendar 2.0//EN
METHOD:PUBLISH
X-PUBLISHED-TTL:P3D
REFRESH-INTERVAL:P3D
CALSCALE:GREGORIAN
BEGIN:VEVENT
DTSTART:20230921T100000Z
DTEND:20230922T020000Z
X-MICROSOFT-CDO-ALLDAYEVENT:FALSE
SUMMARY:The Biggest Loser - Partner Competition
DESCRIPTION:Are you wanting to become more healthy? We have a weight loss incentive program for you. Competitions will be held as partners and as individuals You will be asked to lose a goal of 1% of your overall weight each week. You weigh in at BRCC on Thursdays from 5am-9pm. Rules and regulations are available at BRCC. Prizes will be awarded to the top finishers at the conclusion. \n\n\n\nFee: $30/team of two and $15/person individually
X-ALT-DESC;FMTTYPE=text/html:Are you wanting to become more healthy? We have a weight loss incentive program for you. Competitions will be held as partners and as individuals You will be asked to lose a goal of 1% of your overall weight each week. You weigh in at BRCC on Thursdays from 5am-9pm. Rules and regulations are available at BRCC. Prizes will be awarded to the top finishers at the conclusion.&nbsp\;<br />\n<br />\nFee: $30/team of two and $15/person individually
LOCATION:
UID:e.2874.29474
SEQUENCE:3
DTSTAMP:20260420T112056Z
URL:https://fortscott.com/events/details/the-biggest-loser-partner-competition-09-21-2023-29474
END:VEVENT

END:VCALENDAR
