BEGIN:VCALENDAR
VERSION:2.0
PRODID:-//ChamberMaster//Event Calendar 2.0//EN
METHOD:PUBLISH
X-PUBLISHED-TTL:P3D
REFRESH-INTERVAL:P3D
CALSCALE:GREGORIAN
BEGIN:VEVENT
DTSTART:20191019T140000Z
DTEND:20191019T203000Z
X-MICROSOFT-CDO-ALLDAYEVENT:FALSE
SUMMARY:The Fort Scott Writing Festival & Author Fair
DESCRIPTION:WRITING FESTIVAL & AUTHOR FAIR\n\n\n\nActivities:\n\n8:30am - 8:50am       Registration and Refreshments\n\n\n\n8:50am - 9:00am       Welcome\n\n\n\n9:00am - 12:00pm     Writing Workshops with experienced\, published authors - 50 min. break-out sessions  **Registration required**\n\n\n\n12:00pm - 1:30pm     Lunch Break and set up for Authors' Fair\n\n\n\n1:30pm - 3:30pm       Authors' Fair and mini-workshops **Free to the public**\n\n(Multiple authors will be set-up to market\, sign and share their writing journey with participants.)\n\n\n\nCo-sponsored by:\n\nBourbon County Arts Council\n\nFort Scott Area Chamber of Commerce\n\nHedgehog.INK &\n\nBooks & Grannies
X-ALT-DESC;FMTTYPE=text/html:<p><span style="font-size:18px\;"><span style="font-family:times new roman\;"><strong><span style="font-size:22px\;">WRITING FESTIVAL &amp\; AUTHOR FAIR</span></strong><br />\n<br />\n<span style="color:#800080\;"><u style="text-underline:#8D1132 thick\;">Activities:</u><br />\n8:30am - 8:50am&nbsp\; &nbsp\; &nbsp\; &nbsp\;Registration and Refreshments<br />\n<br />\n8:50am - 9:00am&nbsp\; &nbsp\; &nbsp\; &nbsp\;Welcome<br />\n<br />\n9:00am - 12:00pm&nbsp\; &nbsp\; &nbsp\;Writing Workshops with experienced\, published authors -&nbsp\;</span></span></span><span style="color:#800080\;"><span style="font-family: &quot\;times new roman&quot\;\; font-size: 18px\;">50 min. break-out sessions&nbsp\;&nbsp\;</span><span style="font-size:18px\;"><span style="font-family:times new roman\;"><u style="text-underline:#8D1132 thick\;">**Registration required**</u><br />\n<br />\n12:00pm - 1:30pm&nbsp\; &nbsp\; &nbsp\;Lunch Break and set up for Authors&#39\; Fair<br />\n<br />\n1:30pm - 3:30pm&nbsp\; &nbsp\; &nbsp\; &nbsp\;Authors&#39\; Fair and mini-workshops *<u style="text-underline:#8D1132 thick\;">*Free to the public**</u><br />\n(Multiple authors will be set-up to market\, sign and share their writing journey with participants.)<br />\n<br />\nCo-sponsored by:<br />\nBourbon County Arts Council<br />\nFort Scott Area Chamber of Commerce<br />\nHedgehog.INK &amp\;<br />\nBooks &amp\; Grannies</span></span></span></p>\n
LOCATION:Lowell Milken Center for Unsung Heroes 1 S. Main St.
UID:e.2874.13303
SEQUENCE:3
DTSTAMP:20260420T125011Z
URL:https://fortscott.com/events/details/the-fort-scott-writing-festival-author-fair-13303
END:VEVENT

END:VCALENDAR
