BEGIN:VCALENDAR
VERSION:2.0
PRODID:-//ChamberMaster//Event Calendar 2.0//EN
METHOD:PUBLISH
X-PUBLISHED-TTL:P3D
REFRESH-INTERVAL:P3D
CALSCALE:GREGORIAN
BEGIN:VEVENT
DTSTART:20220429T180000Z
DTEND:20220429T200000Z
X-MICROSOFT-CDO-ALLDAYEVENT:FALSE
SUMMARY:Tri-Valley 2022 Award Ceremony "To The Stars"
DESCRIPTION:Please join us as we recognize individuals\, staff\, businesses and supporters at the 2022 Awards Ceremony.\n\nRefreshments will be served
X-ALT-DESC;FMTTYPE=text/html:<span style="color: rgb(5\, 5\, 5)\; font-family: &quot\;Segoe UI Historic&quot\;\, &quot\;Segoe UI&quot\;\, Helvetica\, Arial\, sans-serif\; font-size: 15px\; background-color: rgb(255\, 255\, 255)\;">Please join us as we recognize individuals\, staff\, businesses and supporters at the 2022 Awards Ceremony.</span><br />\nRefreshments will be served&nbsp\;
LOCATION:Ft Scott Service Center 4305 Campbell Dr.
UID:e.2874.25014
SEQUENCE:3
DTSTAMP:20260425T172932Z
URL:https://fortscott.com/events/details/tri-valley-2022-award-ceremony-to-the-stars-25014
END:VEVENT

END:VCALENDAR
