BEGIN:VCALENDAR
VERSION:2.0
PRODID:-//ChamberMaster//Event Calendar 2.0//EN
METHOD:PUBLISH
X-PUBLISHED-TTL:P3D
REFRESH-INTERVAL:P3D
CALSCALE:GREGORIAN
BEGIN:VEVENT
DTSTART:20191012T150000Z
DTEND:20191012T190000Z
X-MICROSOFT-CDO-ALLDAYEVENT:FALSE
SUMMARY:Tri-Yak-A-Thon Race in Gunn Park (Run\, Canoe\, Bike)
DESCRIPTION:The annual Tri-Yak-A-Thon is back! As always\, the event consists of three legs. We are changing the distances of all three legs this year. The first leg will be a 5K trail run\, a shorter distance compared to previous Tri-Yak-A-Thons. The second leg will be a 5K river kayak\, a longer distance. The final leg will be a 10K mountain bike ride\, also a shorter distance than previous races.\n\n\n\nParticipants can register solo or in relay teams of 2-3 people. All registrants will receive a swag bag and a t-shirt. This year\, the money raised from this event will go to the Shirley Yeager Animal Friends Foundation\, a shelter and animal adoption organization.
X-ALT-DESC;FMTTYPE=text/html:<span style="color: rgb(29\, 33\, 41)\; font-family: Helvetica\, Arial\, sans-serif\; font-size: 14px\; white-space: pre-wrap\;">The annual Tri-Yak-A-Thon is back! As always\, the event consists of three legs. We are changing the distances of all three legs this year. The first leg will be a 5K trail run\, a shorter distance compared to previous Tri-Yak-A-Thons. The second leg will be a 5K river kayak\, a longer distance. The final leg will be a 10K mountain bike ride\, also a shorter distance than previous races.<br />\n<br />\nParticipants can register solo or in relay teams of 2-3 people. All registrants will receive a swag bag and a t-shirt. This year\, the money raised from this event will go to the Shirley Yeager Animal Friends Foundation\, a shelter and animal adoption organization.</span>
LOCATION:Gunn Park 1010 Park Ave.
UID:e.2874.13493
SEQUENCE:3
DTSTAMP:20260420T125520Z
URL:https://fortscott.com/events/details/tri-yak-a-thon-race-in-gunn-park-run-canoe-bike-13493
END:VEVENT

END:VCALENDAR
