BEGIN:VCALENDAR
VERSION:2.0
PRODID:-//ChamberMaster//Event Calendar 2.0//EN
METHOD:PUBLISH
X-PUBLISHED-TTL:P3D
REFRESH-INTERVAL:P3D
CALSCALE:GREGORIAN
BEGIN:VEVENT
DTSTART:20191014T223000Z
DTEND:20191014T233000Z
X-MICROSOFT-CDO-ALLDAYEVENT:FALSE
SUMMARY:USD 234 Board of Education Meeting 5:30pm
DESCRIPTION:USD 234 Board Meeting\, 5:30pm\, Board of Education
X-ALT-DESC;FMTTYPE=text/html:USD 234 Board Meeting\, 5:30pm\, Board of Education&nbsp\;
LOCATION:
UID:e.2874.12607
SEQUENCE:3
DTSTAMP:20260420T125258Z
URL:https://fortscott.com/events/details/usd-234-board-of-education-meeting-5-30pm-10-14-2019-12607
END:VEVENT

END:VCALENDAR
