BEGIN:VCALENDAR
VERSION:2.0
PRODID:-//ChamberMaster//Event Calendar 2.0//EN
METHOD:PUBLISH
X-PUBLISHED-TTL:P3D
REFRESH-INTERVAL:P3D
CALSCALE:GREGORIAN
BEGIN:VEVENT
DTSTART:20181111T170000Z
DTEND:20181111T180000Z
X-MICROSOFT-CDO-ALLDAYEVENT:FALSE
SUMMARY:Veterans Day Service at U.S. National Cemetery #1
DESCRIPTION:Services @ US National Cemetery #1 with 12th District Kansas Senator Caryn Tyson. Organized by VFW Post 1165 Olson-Frary-Burkhart
X-ALT-DESC;FMTTYPE=text/html:<span style="box-sizing: border-box\; font-weight: 700\; color: rgb(66\, 66\, 66)\; font-family: &quot\;Open Sans&quot\;\, sans-serif\; font-size: 14px\; margin-top: 0px !important\;">Services @ US National Cemetery #1</span><span style="color: rgb(66\, 66\, 66)\; font-family: &quot\;Open Sans&quot\;\, sans-serif\; font-size: 14px\;">&nbsp\;with 12th District Kansas Senator Caryn Tyson. Organized by&nbsp\;</span><span class="fwn fcg" style="box-sizing: border-box\; color: rgb(66\, 66\, 66)\; font-family: &quot\;Open Sans&quot\;\, sans-serif\; font-size: 14px\; margin-bottom: 0px !important\;"><span class="fcg" style="box-sizing: border-box\; margin-top: 0px !important\; margin-bottom: 0px !important\;"><span class="fwb" style="box-sizing: border-box\; margin-top: 0px !important\; margin-bottom: 0px !important\;">VFW Post 1165 Olson-Frary-Burkhart</span></span></span>
LOCATION:U.S. National Cemetery #1\, 900 E. National Ave.\, Fort Scott\, KS
UID:e.2874.11010
SEQUENCE:3
DTSTAMP:20260424T082414Z
URL:https://fortscott.com/events/details/veterans-day-service-at-u-s-national-cemetery-1-11010
END:VEVENT

END:VCALENDAR
