BEGIN:VCALENDAR
VERSION:2.0
PRODID:-//ChamberMaster//Event Calendar 2.0//EN
METHOD:PUBLISH
X-PUBLISHED-TTL:P3D
REFRESH-INTERVAL:P3D
CALSCALE:GREGORIAN
BEGIN:VEVENT
DTSTART:20181111T010000Z
DTEND:20181111T043000Z
X-MICROSOFT-CDO-ALLDAYEVENT:FALSE
SUMMARY:Veterans Day Weekend 1800's Remembrance Grand Ball
DESCRIPTION:The "Friends" and Volunteers of Fort Scott National Historic Site cordially invite you to the\n\n\n\n1800's REMEMBRANCE GRAND BALL\n\n\n\nSaturday\, November 10\, 2018\n\n7:00 to 10:30 PM\n\nHistoric Memorial Hall\n\n1 E 3rd Street\, Fort Scott\, Kansas\n\n\n\n\n\n1800's period music will be selected for it's accuracy and authenticity from the best CD's available.\n\n\n\nDress: 1800s Period Dress Highly Encouraged OR Semi-Formal Party Wear OR Military Uniforms Gloves are required and will be available. Long trains\, spike heels\, hobnails/heel-plates\, spurs/ swords/side-arms\, pipes/cigars/chewing tobacco\, and liquor are prohibited.\n\nDressing rooms are available.\nSweet and Savory refreshments will be served.\n\n\n\n\nDoors open at 6 PM\n\nDancing begins promptly at 7 PM with the Grand March\n\n\n\nAll proceeds go to the Friends of Fort Scott National Historic Site. For more information contact Dee at waynedeeyoung@hughes.net.
X-ALT-DESC;FMTTYPE=text/html:<span style="color: rgb(75\, 79\, 86)\; font-family: Helvetica\, Arial\, sans-serif\; font-size: 14px\;">The &ldquo\;Friends&rdquo\; and Volunteers of Fort Scott National Historic Site cordially invite you to the</span><br style="color: rgb(75\, 79\, 86)\; font-family: Helvetica\, Arial\, sans-serif\; font-size: 14px\;" />\n<br style="color: rgb(75\, 79\, 86)\; font-family: Helvetica\, Arial\, sans-serif\; font-size: 14px\;" />\n<span style="color: rgb(75\, 79\, 86)\; font-family: Helvetica\, Arial\, sans-serif\; font-size: 14px\;">1800&#39\;s REMEMBRANCE GRAND BALL</span><br style="color: rgb(75\, 79\, 86)\; font-family: Helvetica\, Arial\, sans-serif\; font-size: 14px\;" />\n<br style="color: rgb(75\, 79\, 86)\; font-family: Helvetica\, Arial\, sans-serif\; font-size: 14px\;" />\n<span style="color: rgb(75\, 79\, 86)\; font-family: Helvetica\, Arial\, sans-serif\; font-size: 14px\;">Saturday\, November 10\, 2018</span><br style="color: rgb(75\, 79\, 86)\; font-family: Helvetica\, Arial\, sans-serif\; font-size: 14px\;" />\n<span style="color: rgb(75\, 79\, 86)\; font-family: Helvetica\, Arial\, sans-serif\; font-size: 14px\;">7:00 to 10:30 PM</span><br style="color: rgb(75\, 79\, 86)\; font-family: Helvetica\, Arial\, sans-serif\; font-size: 14px\;" />\n<span style="color: rgb(75\, 79\, 86)\; font-family: Helvetica\, Arial\, sans-serif\; font-size: 14px\;">Historic Memorial Hall</span><br style="color: rgb(75\, 79\, 86)\; font-family: Helvetica\, Arial\, sans-serif\; font-size: 14px\;" />\n<span style="color: rgb(75\, 79\, 86)\; font-family: Helvetica\, Arial\, sans-serif\; font-size: 14px\;">1 E 3rd Street\, Fort Scott\, Kansas</span><br style="color: rgb(75\, 79\, 86)\; font-family: Helvetica\, Arial\, sans-serif\; font-size: 14px\;" />\n<br style="color: rgb(75\, 79\, 86)\; font-family: Helvetica\, Arial\, sans-serif\; font-size: 14px\;" />\n<br style="color: rgb(75\, 79\, 86)\; font-family: Helvetica\, Arial\, sans-serif\; font-size: 14px\;" />\n<span style="color: rgb(75\, 79\, 86)\; font-family: Helvetica\, Arial\, sans-serif\; font-size: 14px\;">1800&#39\;s period music will be selected for it&rsquo\;s accuracy and authenticity from the best CD&rsquo\;s available.</span><br />\n<br />\n<span style="font-family:times new roman\,serif\;"><span style="font-size:14.0pt\;">Dress: </span></span>1800s Period Dress Highly Encouraged <span style="font-family:times new roman\,serif\;">OR </span>Semi-Formal Party Wear OR Military Uniforms Gloves are required and will be available. Long trains\, spike heels\, hobnails/heel-plates\, spurs/ swords/side-arms\, pipes/cigars/chewing tobacco\, and liquor are <span style="font-family:times new roman\,serif\;">prohibited</span>.<br />\nDressing rooms are available.\n<h2 style="margin-top:5.5pt\;">Sweet and Savory refreshments will be served.</h2>\n<br style="color: rgb(75\, 79\, 86)\; font-family: Helvetica\, Arial\, sans-serif\; font-size: 14px\;" />\n<br />\n<span class="text_exposed_show" style="display: inline\; font-family: Helvetica\, Arial\, sans-serif\; color: rgb(75\, 79\, 86)\; font-size: 14px\;">Doors open at 6 PM<br />\nDancing begins promptly at 7 PM with the Grand March<br />\n<br />\nAll proceeds go to the Friends of Fort Scott National Historic Site. For more information contact Dee at waynedeeyoung@hughes.net.</span>
LOCATION:Memorial Hall\, 1 E. 3rd St.
UID:e.2874.6844
SEQUENCE:3
DTSTAMP:20260422T003456Z
URL:https://fortscott.com/events/details/veterans-day-weekend-1800-s-remembrance-grand-ball-6844
END:VEVENT

END:VCALENDAR
