BEGIN:VCALENDAR
VERSION:2.0
PRODID:-//ChamberMaster//Event Calendar 2.0//EN
METHOD:PUBLISH
X-PUBLISHED-TTL:P3D
REFRESH-INTERVAL:P3D
CALSCALE:GREGORIAN
BEGIN:VEVENT
DTSTART:20211214T170000Z
DTEND:20211214T200000Z
X-MICROSOFT-CDO-ALLDAYEVENT:FALSE
SUMMARY:Women of Wall Street 18th annual Soup and Snack Party @ Atkins Insurance!
DESCRIPTION:Women of Wall Street\n\n\n\n18th Annual Soup and Snack Party at Atkins Insurance Agency!\n\n\n\nTuesday\, December 14th\, 11am to 2pm\n\n\n\nStop by for some goodies and a little holiday fellowship to start the Christmas Season off with a smile.  Come join us\, to celebrate this blessed season!
X-ALT-DESC;FMTTYPE=text/html:Women of Wall Street<br />\n<br />\n18th Annual Soup and Snack Party at Atkins Insurance Agency!<br />\n<br />\nTuesday\, December 14th\, 11am to 2pm<br />\n<br />\nStop by for some goodies and a little holiday fellowship to start the Christmas Season off with a smile.&nbsp\; Come join us\, to celebrate this blessed season!
LOCATION:
UID:e.2874.22827
SEQUENCE:3
DTSTAMP:20260426T001032Z
URL:https://fortscott.com/events/details/women-of-wall-street-18th-annual-soup-and-snack-party-atkins-insurance-22827
END:VEVENT

END:VCALENDAR
